BEGIN:VCALENDAR
VERSION:2.0
PRODID:-//MPMCC - ECPv6.15.1.1//NONSGML v1.0//EN
CALSCALE:GREGORIAN
METHOD:PUBLISH
X-WR-CALNAME:MPMCC
X-ORIGINAL-URL:https://mpmcc.com
X-WR-CALDESC:Events for MPMCC
REFRESH-INTERVAL;VALUE=DURATION:PT1H
X-Robots-Tag:noindex
X-PUBLISHED-TTL:PT1H
BEGIN:VTIMEZONE
TZID:UTC
BEGIN:STANDARD
TZOFFSETFROM:+0000
TZOFFSETTO:+0000
TZNAME:UTC
DTSTART:20230101T000000
END:STANDARD
END:VTIMEZONE
BEGIN:VEVENT
DTSTART;TZID=UTC:20230825T170000
DTEND;TZID=UTC:20230825T220000
DTSTAMP:20260426T004923
CREATED:20180802T192204Z
LAST-MODIFIED:20180802T192204Z
UID:1314-1692982800-1693000800@mpmcc.com
SUMMARY:Food Truck Friday at Scotty's Bierwerks
DESCRIPTION:For this Food Truck Friday\, enjoy food from Classic Cuban & Ma Petite Crêperie from 5-9! Enjoy live music from Kyle Anne Duggan from 7-10! Hangout in the brewery/game room and play corn hole\, darts\, air hockey\, food\, and foosball! FAMILY & PET-FRIENDLY \n  \nEvery week there are different Food Trucks and different Musicians at the Brewery..
URL:https://mpmcc.com/event/food-truck-friday-at-scotts-brewery-2023-08-25/
LOCATION:Scotty’s Bierwerks\, 901 E Industrial Cir\, Cape Coral\, FL\, 33909\, United States
END:VEVENT
BEGIN:VEVENT
DTSTART;TZID=UTC:20230822T080000
DTEND;TZID=UTC:20230822T130000
DTSTAMP:20260426T004923
CREATED:20171230T032911Z
LAST-MODIFIED:20171230T032911Z
UID:1313-1692691200-1692709200@mpmcc.com
SUMMARY:Surfside Sunset Market
DESCRIPTION:Cape Coral’s only Year-Round Farmers Market. Located at The Shops at Surfside the market is located outside from November-April and indoors from May-October for your shopping comfort. Fresh\, local and healthy produce and citrus\, breads and much more!
URL:https://mpmcc.com/event/surfside-sunset-market-2023-08-22/
LOCATION:Surfside Sunset Market\, 2366 Surfside Blvd\, Cape Coral\, FL\, 33914\, United States
END:VEVENT
BEGIN:VEVENT
DTSTART;TZID=UTC:20230818T220000
DTEND;TZID=UTC:20230819T020000
DTSTAMP:20260426T004923
CREATED:20190930T221642Z
LAST-MODIFIED:20211015T200513Z
UID:1312-1692396000-1692410400@mpmcc.com
SUMMARY:Downtown Fort Myers Music Walk!
DESCRIPTION:The River District comes alive on the third Friday of the month as local and regional musicians line the streets. From jazz and blues to rock & roll\, many genres can be heard and vary each month. Free to the public with many venues featuring additional attractions and specials.
URL:https://mpmcc.com/event/downtown-fort-myers-music-walk-2023-08-18/
LOCATION:River District Holidays\, 1400 JACKSON STREET\, Fort Myers\, FL\, 33902\, United States
END:VEVENT
BEGIN:VEVENT
DTSTART;TZID=UTC:20230818T170000
DTEND;TZID=UTC:20230818T220000
DTSTAMP:20260426T004923
CREATED:20180802T192204Z
LAST-MODIFIED:20180802T192204Z
UID:1311-1692378000-1692396000@mpmcc.com
SUMMARY:Food Truck Friday at Scotty's Bierwerks
DESCRIPTION:For this Food Truck Friday\, enjoy food from Classic Cuban & Ma Petite Crêperie from 5-9! Enjoy live music from Kyle Anne Duggan from 7-10! Hangout in the brewery/game room and play corn hole\, darts\, air hockey\, food\, and foosball! FAMILY & PET-FRIENDLY \n  \nEvery week there are different Food Trucks and different Musicians at the Brewery..
URL:https://mpmcc.com/event/food-truck-friday-at-scotts-brewery-2023-08-18/
LOCATION:Scotty’s Bierwerks\, 901 E Industrial Cir\, Cape Coral\, FL\, 33909\, United States
END:VEVENT
BEGIN:VEVENT
DTSTART;TZID=UTC:20230817T170000
DTEND;TZID=UTC:20230817T210000
DTSTAMP:20260426T004923
CREATED:20180408T193536Z
LAST-MODIFIED:20180408T193536Z
UID:1310-1692291600-1692306000@mpmcc.com
SUMMARY:Bike Night
DESCRIPTION:Every Third Thursday of the Month\nLive Music\nCash Give Away\n$9 Biker BBQ\n$12.50 Buckets & $3 Wells\nBiker Jewelry for Sale\nEvent details at eventbrite.com!
URL:https://mpmcc.com/event/bike-night-2023-08-17/
LOCATION:Shell Factory and Nature Prk\, 2787 North Tamiami Trail\, North Fort Myers\, FL\, 33903\, United States
END:VEVENT
BEGIN:VEVENT
DTSTART;TZID=UTC:20230815T080000
DTEND;TZID=UTC:20230815T130000
DTSTAMP:20260426T004923
CREATED:20171230T032911Z
LAST-MODIFIED:20171230T032911Z
UID:1309-1692086400-1692104400@mpmcc.com
SUMMARY:Surfside Sunset Market
DESCRIPTION:Cape Coral’s only Year-Round Farmers Market. Located at The Shops at Surfside the market is located outside from November-April and indoors from May-October for your shopping comfort. Fresh\, local and healthy produce and citrus\, breads and much more!
URL:https://mpmcc.com/event/surfside-sunset-market-2023-08-15/
LOCATION:Surfside Sunset Market\, 2366 Surfside Blvd\, Cape Coral\, FL\, 33914\, United States
END:VEVENT
BEGIN:VEVENT
DTSTART;TZID=UTC:20230811T170000
DTEND;TZID=UTC:20230811T220000
DTSTAMP:20260426T004923
CREATED:20180802T192204Z
LAST-MODIFIED:20180802T192204Z
UID:1308-1691773200-1691791200@mpmcc.com
SUMMARY:Food Truck Friday at Scotty's Bierwerks
DESCRIPTION:For this Food Truck Friday\, enjoy food from Classic Cuban & Ma Petite Crêperie from 5-9! Enjoy live music from Kyle Anne Duggan from 7-10! Hangout in the brewery/game room and play corn hole\, darts\, air hockey\, food\, and foosball! FAMILY & PET-FRIENDLY \n  \nEvery week there are different Food Trucks and different Musicians at the Brewery..
URL:https://mpmcc.com/event/food-truck-friday-at-scotts-brewery-2023-08-11/
LOCATION:Scotty’s Bierwerks\, 901 E Industrial Cir\, Cape Coral\, FL\, 33909\, United States
END:VEVENT
BEGIN:VEVENT
DTSTART;TZID=UTC:20230808T080000
DTEND;TZID=UTC:20230808T130000
DTSTAMP:20260426T004923
CREATED:20171230T032911Z
LAST-MODIFIED:20171230T032911Z
UID:1307-1691481600-1691499600@mpmcc.com
SUMMARY:Surfside Sunset Market
DESCRIPTION:Cape Coral’s only Year-Round Farmers Market. Located at The Shops at Surfside the market is located outside from November-April and indoors from May-October for your shopping comfort. Fresh\, local and healthy produce and citrus\, breads and much more!
URL:https://mpmcc.com/event/surfside-sunset-market-2023-08-08/
LOCATION:Surfside Sunset Market\, 2366 Surfside Blvd\, Cape Coral\, FL\, 33914\, United States
END:VEVENT
BEGIN:VEVENT
DTSTART;TZID=UTC:20230805T090000
DTEND;TZID=UTC:20230805T140000
DTSTAMP:20260426T004923
CREATED:20180802T193112Z
LAST-MODIFIED:20180802T193112Z
UID:1306-1691226000-1691244000@mpmcc.com
SUMMARY:Market at the Moose
DESCRIPTION:Market at the Moose\nSaturday:  Check out the Market at the Moose every first Saturday of the month. \nIndoor/Outdoor market. \nMany vendors\, fresh produce\, baked goods\, food\, gourmet spices\, custom jewelry\, homemade items\, art\, crafts\, unique small businesses\, Live entertainment and more! \nFREE public admission! Keep our community strong by coming out and supporting our local small businesses! Moose Lodge #2199 on N Santa Barbara Blvd from 9 am – 2 pm.
URL:https://mpmcc.com/event/market-at-the-moose-2023-08-05/
LOCATION:Moose Lodge\, 155 Santa Barbara Blvd. N\, Cape Coral\, FL\, 33914\, United States
END:VEVENT
BEGIN:VEVENT
DTSTART;TZID=UTC:20230804T180000
DTEND;TZID=UTC:20230804T220000
DTSTAMP:20260426T004923
CREATED:20190930T221325Z
LAST-MODIFIED:20190930T221325Z
UID:1305-1691172000-1691186400@mpmcc.com
SUMMARY:Downtown Fort Myers Art Walk!
DESCRIPTION:A must do in the River District social scene is the monthly Art Walk. Always on the First Friday\, visit the many exciting galleries\, exhibitions\, and performances. Free to the public with many venues featuring additional attractions and specials. Rain or shine\, 6-10 pm.
URL:https://mpmcc.com/event/downtown-fort-myers-art-walk-2023-08-04/
LOCATION:River District Holidays\, 1400 JACKSON STREET\, Fort Myers\, FL\, 33902\, United States
END:VEVENT
BEGIN:VEVENT
DTSTART;TZID=UTC:20230804T170000
DTEND;TZID=UTC:20230804T220000
DTSTAMP:20260426T004923
CREATED:20180802T192204Z
LAST-MODIFIED:20180802T192204Z
UID:1304-1691168400-1691186400@mpmcc.com
SUMMARY:Food Truck Friday at Scotty's Bierwerks
DESCRIPTION:For this Food Truck Friday\, enjoy food from Classic Cuban & Ma Petite Crêperie from 5-9! Enjoy live music from Kyle Anne Duggan from 7-10! Hangout in the brewery/game room and play corn hole\, darts\, air hockey\, food\, and foosball! FAMILY & PET-FRIENDLY \n  \nEvery week there are different Food Trucks and different Musicians at the Brewery..
URL:https://mpmcc.com/event/food-truck-friday-at-scotts-brewery-2023-08-04/
LOCATION:Scotty’s Bierwerks\, 901 E Industrial Cir\, Cape Coral\, FL\, 33909\, United States
END:VEVENT
BEGIN:VEVENT
DTSTART;TZID=UTC:20230801T080000
DTEND;TZID=UTC:20230801T130000
DTSTAMP:20260426T004923
CREATED:20171230T032911Z
LAST-MODIFIED:20171230T032911Z
UID:1303-1690876800-1690894800@mpmcc.com
SUMMARY:Surfside Sunset Market
DESCRIPTION:Cape Coral’s only Year-Round Farmers Market. Located at The Shops at Surfside the market is located outside from November-April and indoors from May-October for your shopping comfort. Fresh\, local and healthy produce and citrus\, breads and much more!
URL:https://mpmcc.com/event/surfside-sunset-market-2023-08-01/
LOCATION:Surfside Sunset Market\, 2366 Surfside Blvd\, Cape Coral\, FL\, 33914\, United States
END:VEVENT
BEGIN:VEVENT
DTSTART;TZID=UTC:20230728T170000
DTEND;TZID=UTC:20230728T220000
DTSTAMP:20260426T004923
CREATED:20180802T192204Z
LAST-MODIFIED:20180802T192204Z
UID:1302-1690563600-1690581600@mpmcc.com
SUMMARY:Food Truck Friday at Scotty's Bierwerks
DESCRIPTION:For this Food Truck Friday\, enjoy food from Classic Cuban & Ma Petite Crêperie from 5-9! Enjoy live music from Kyle Anne Duggan from 7-10! Hangout in the brewery/game room and play corn hole\, darts\, air hockey\, food\, and foosball! FAMILY & PET-FRIENDLY \n  \nEvery week there are different Food Trucks and different Musicians at the Brewery..
URL:https://mpmcc.com/event/food-truck-friday-at-scotts-brewery-2023-07-28/
LOCATION:Scotty’s Bierwerks\, 901 E Industrial Cir\, Cape Coral\, FL\, 33909\, United States
END:VEVENT
BEGIN:VEVENT
DTSTART;TZID=UTC:20230725T080000
DTEND;TZID=UTC:20230725T130000
DTSTAMP:20260426T004923
CREATED:20171230T032911Z
LAST-MODIFIED:20171230T032911Z
UID:1301-1690272000-1690290000@mpmcc.com
SUMMARY:Surfside Sunset Market
DESCRIPTION:Cape Coral’s only Year-Round Farmers Market. Located at The Shops at Surfside the market is located outside from November-April and indoors from May-October for your shopping comfort. Fresh\, local and healthy produce and citrus\, breads and much more!
URL:https://mpmcc.com/event/surfside-sunset-market-2023-07-25/
LOCATION:Surfside Sunset Market\, 2366 Surfside Blvd\, Cape Coral\, FL\, 33914\, United States
END:VEVENT
BEGIN:VEVENT
DTSTART;TZID=UTC:20230721T220000
DTEND;TZID=UTC:20230722T020000
DTSTAMP:20260426T004923
CREATED:20190930T221642Z
LAST-MODIFIED:20211015T200512Z
UID:1300-1689976800-1689991200@mpmcc.com
SUMMARY:Downtown Fort Myers Music Walk!
DESCRIPTION:The River District comes alive on the third Friday of the month as local and regional musicians line the streets. From jazz and blues to rock & roll\, many genres can be heard and vary each month. Free to the public with many venues featuring additional attractions and specials.
URL:https://mpmcc.com/event/downtown-fort-myers-music-walk-2023-07-21/
LOCATION:River District Holidays\, 1400 JACKSON STREET\, Fort Myers\, FL\, 33902\, United States
END:VEVENT
BEGIN:VEVENT
DTSTART;TZID=UTC:20230721T170000
DTEND;TZID=UTC:20230721T220000
DTSTAMP:20260426T004923
CREATED:20180802T192204Z
LAST-MODIFIED:20180802T192204Z
UID:1299-1689958800-1689976800@mpmcc.com
SUMMARY:Food Truck Friday at Scotty's Bierwerks
DESCRIPTION:For this Food Truck Friday\, enjoy food from Classic Cuban & Ma Petite Crêperie from 5-9! Enjoy live music from Kyle Anne Duggan from 7-10! Hangout in the brewery/game room and play corn hole\, darts\, air hockey\, food\, and foosball! FAMILY & PET-FRIENDLY \n  \nEvery week there are different Food Trucks and different Musicians at the Brewery..
URL:https://mpmcc.com/event/food-truck-friday-at-scotts-brewery-2023-07-21/
LOCATION:Scotty’s Bierwerks\, 901 E Industrial Cir\, Cape Coral\, FL\, 33909\, United States
END:VEVENT
BEGIN:VEVENT
DTSTART;TZID=UTC:20230720T170000
DTEND;TZID=UTC:20230720T210000
DTSTAMP:20260426T004923
CREATED:20180408T193536Z
LAST-MODIFIED:20180408T193536Z
UID:1298-1689872400-1689886800@mpmcc.com
SUMMARY:Bike Night
DESCRIPTION:Every Third Thursday of the Month\nLive Music\nCash Give Away\n$9 Biker BBQ\n$12.50 Buckets & $3 Wells\nBiker Jewelry for Sale\nEvent details at eventbrite.com!
URL:https://mpmcc.com/event/bike-night-2023-07-20/
LOCATION:Shell Factory and Nature Prk\, 2787 North Tamiami Trail\, North Fort Myers\, FL\, 33903\, United States
END:VEVENT
BEGIN:VEVENT
DTSTART;TZID=UTC:20230718T080000
DTEND;TZID=UTC:20230718T130000
DTSTAMP:20260426T004923
CREATED:20171230T032911Z
LAST-MODIFIED:20171230T032911Z
UID:1297-1689667200-1689685200@mpmcc.com
SUMMARY:Surfside Sunset Market
DESCRIPTION:Cape Coral’s only Year-Round Farmers Market. Located at The Shops at Surfside the market is located outside from November-April and indoors from May-October for your shopping comfort. Fresh\, local and healthy produce and citrus\, breads and much more!
URL:https://mpmcc.com/event/surfside-sunset-market-2023-07-18/
LOCATION:Surfside Sunset Market\, 2366 Surfside Blvd\, Cape Coral\, FL\, 33914\, United States
END:VEVENT
BEGIN:VEVENT
DTSTART;TZID=UTC:20230714T170000
DTEND;TZID=UTC:20230714T220000
DTSTAMP:20260426T004923
CREATED:20180802T192204Z
LAST-MODIFIED:20180802T192204Z
UID:1296-1689354000-1689372000@mpmcc.com
SUMMARY:Food Truck Friday at Scotty's Bierwerks
DESCRIPTION:For this Food Truck Friday\, enjoy food from Classic Cuban & Ma Petite Crêperie from 5-9! Enjoy live music from Kyle Anne Duggan from 7-10! Hangout in the brewery/game room and play corn hole\, darts\, air hockey\, food\, and foosball! FAMILY & PET-FRIENDLY \n  \nEvery week there are different Food Trucks and different Musicians at the Brewery..
URL:https://mpmcc.com/event/food-truck-friday-at-scotts-brewery-2023-07-14/
LOCATION:Scotty’s Bierwerks\, 901 E Industrial Cir\, Cape Coral\, FL\, 33909\, United States
END:VEVENT
BEGIN:VEVENT
DTSTART;TZID=UTC:20230711T080000
DTEND;TZID=UTC:20230711T130000
DTSTAMP:20260426T004923
CREATED:20171230T032911Z
LAST-MODIFIED:20171230T032911Z
UID:1295-1689062400-1689080400@mpmcc.com
SUMMARY:Surfside Sunset Market
DESCRIPTION:Cape Coral’s only Year-Round Farmers Market. Located at The Shops at Surfside the market is located outside from November-April and indoors from May-October for your shopping comfort. Fresh\, local and healthy produce and citrus\, breads and much more!
URL:https://mpmcc.com/event/surfside-sunset-market-2023-07-11/
LOCATION:Surfside Sunset Market\, 2366 Surfside Blvd\, Cape Coral\, FL\, 33914\, United States
END:VEVENT
BEGIN:VEVENT
DTSTART;TZID=UTC:20230707T180000
DTEND;TZID=UTC:20230707T220000
DTSTAMP:20260426T004923
CREATED:20190930T221325Z
LAST-MODIFIED:20190930T221325Z
UID:1294-1688752800-1688767200@mpmcc.com
SUMMARY:Downtown Fort Myers Art Walk!
DESCRIPTION:A must do in the River District social scene is the monthly Art Walk. Always on the First Friday\, visit the many exciting galleries\, exhibitions\, and performances. Free to the public with many venues featuring additional attractions and specials. Rain or shine\, 6-10 pm.
URL:https://mpmcc.com/event/downtown-fort-myers-art-walk-2023-07-07/
LOCATION:River District Holidays\, 1400 JACKSON STREET\, Fort Myers\, FL\, 33902\, United States
END:VEVENT
BEGIN:VEVENT
DTSTART;TZID=UTC:20230707T170000
DTEND;TZID=UTC:20230707T220000
DTSTAMP:20260426T004923
CREATED:20180802T192204Z
LAST-MODIFIED:20180802T192204Z
UID:1293-1688749200-1688767200@mpmcc.com
SUMMARY:Food Truck Friday at Scotty's Bierwerks
DESCRIPTION:For this Food Truck Friday\, enjoy food from Classic Cuban & Ma Petite Crêperie from 5-9! Enjoy live music from Kyle Anne Duggan from 7-10! Hangout in the brewery/game room and play corn hole\, darts\, air hockey\, food\, and foosball! FAMILY & PET-FRIENDLY \n  \nEvery week there are different Food Trucks and different Musicians at the Brewery..
URL:https://mpmcc.com/event/food-truck-friday-at-scotts-brewery-2023-07-07/
LOCATION:Scotty’s Bierwerks\, 901 E Industrial Cir\, Cape Coral\, FL\, 33909\, United States
END:VEVENT
BEGIN:VEVENT
DTSTART;TZID=UTC:20230704T080000
DTEND;TZID=UTC:20230704T130000
DTSTAMP:20260426T004923
CREATED:20171230T032911Z
LAST-MODIFIED:20171230T032911Z
UID:1292-1688457600-1688475600@mpmcc.com
SUMMARY:Surfside Sunset Market
DESCRIPTION:Cape Coral’s only Year-Round Farmers Market. Located at The Shops at Surfside the market is located outside from November-April and indoors from May-October for your shopping comfort. Fresh\, local and healthy produce and citrus\, breads and much more!
URL:https://mpmcc.com/event/surfside-sunset-market-2023-07-04/
LOCATION:Surfside Sunset Market\, 2366 Surfside Blvd\, Cape Coral\, FL\, 33914\, United States
END:VEVENT
BEGIN:VEVENT
DTSTART;TZID=UTC:20230701T090000
DTEND;TZID=UTC:20230701T140000
DTSTAMP:20260426T004923
CREATED:20180802T193112Z
LAST-MODIFIED:20180802T193112Z
UID:1291-1688202000-1688220000@mpmcc.com
SUMMARY:Market at the Moose
DESCRIPTION:Market at the Moose\nSaturday:  Check out the Market at the Moose every first Saturday of the month. \nIndoor/Outdoor market. \nMany vendors\, fresh produce\, baked goods\, food\, gourmet spices\, custom jewelry\, homemade items\, art\, crafts\, unique small businesses\, Live entertainment and more! \nFREE public admission! Keep our community strong by coming out and supporting our local small businesses! Moose Lodge #2199 on N Santa Barbara Blvd from 9 am – 2 pm.
URL:https://mpmcc.com/event/market-at-the-moose-2023-07-01/
LOCATION:Moose Lodge\, 155 Santa Barbara Blvd. N\, Cape Coral\, FL\, 33914\, United States
END:VEVENT
BEGIN:VEVENT
DTSTART;TZID=UTC:20230630T170000
DTEND;TZID=UTC:20230630T220000
DTSTAMP:20260426T004923
CREATED:20180802T192204Z
LAST-MODIFIED:20180802T192204Z
UID:1290-1688144400-1688162400@mpmcc.com
SUMMARY:Food Truck Friday at Scotty's Bierwerks
DESCRIPTION:For this Food Truck Friday\, enjoy food from Classic Cuban & Ma Petite Crêperie from 5-9! Enjoy live music from Kyle Anne Duggan from 7-10! Hangout in the brewery/game room and play corn hole\, darts\, air hockey\, food\, and foosball! FAMILY & PET-FRIENDLY \n  \nEvery week there are different Food Trucks and different Musicians at the Brewery..
URL:https://mpmcc.com/event/food-truck-friday-at-scotts-brewery-2023-06-30/
LOCATION:Scotty’s Bierwerks\, 901 E Industrial Cir\, Cape Coral\, FL\, 33909\, United States
END:VEVENT
BEGIN:VEVENT
DTSTART;TZID=UTC:20230627T080000
DTEND;TZID=UTC:20230627T130000
DTSTAMP:20260426T004923
CREATED:20171230T032911Z
LAST-MODIFIED:20171230T032911Z
UID:1289-1687852800-1687870800@mpmcc.com
SUMMARY:Surfside Sunset Market
DESCRIPTION:Cape Coral’s only Year-Round Farmers Market. Located at The Shops at Surfside the market is located outside from November-April and indoors from May-October for your shopping comfort. Fresh\, local and healthy produce and citrus\, breads and much more!
URL:https://mpmcc.com/event/surfside-sunset-market-2023-06-27/
LOCATION:Surfside Sunset Market\, 2366 Surfside Blvd\, Cape Coral\, FL\, 33914\, United States
END:VEVENT
BEGIN:VEVENT
DTSTART;TZID=UTC:20230623T170000
DTEND;TZID=UTC:20230623T220000
DTSTAMP:20260426T004923
CREATED:20180802T192204Z
LAST-MODIFIED:20180802T192204Z
UID:1288-1687539600-1687557600@mpmcc.com
SUMMARY:Food Truck Friday at Scotty's Bierwerks
DESCRIPTION:For this Food Truck Friday\, enjoy food from Classic Cuban & Ma Petite Crêperie from 5-9! Enjoy live music from Kyle Anne Duggan from 7-10! Hangout in the brewery/game room and play corn hole\, darts\, air hockey\, food\, and foosball! FAMILY & PET-FRIENDLY \n  \nEvery week there are different Food Trucks and different Musicians at the Brewery..
URL:https://mpmcc.com/event/food-truck-friday-at-scotts-brewery-2023-06-23/
LOCATION:Scotty’s Bierwerks\, 901 E Industrial Cir\, Cape Coral\, FL\, 33909\, United States
END:VEVENT
BEGIN:VEVENT
DTSTART;TZID=UTC:20230620T080000
DTEND;TZID=UTC:20230620T130000
DTSTAMP:20260426T004923
CREATED:20171230T032911Z
LAST-MODIFIED:20171230T032911Z
UID:1287-1687248000-1687266000@mpmcc.com
SUMMARY:Surfside Sunset Market
DESCRIPTION:Cape Coral’s only Year-Round Farmers Market. Located at The Shops at Surfside the market is located outside from November-April and indoors from May-October for your shopping comfort. Fresh\, local and healthy produce and citrus\, breads and much more!
URL:https://mpmcc.com/event/surfside-sunset-market-2023-06-20/
LOCATION:Surfside Sunset Market\, 2366 Surfside Blvd\, Cape Coral\, FL\, 33914\, United States
END:VEVENT
BEGIN:VEVENT
DTSTART;TZID=UTC:20230616T220000
DTEND;TZID=UTC:20230617T020000
DTSTAMP:20260426T004923
CREATED:20190930T221642Z
LAST-MODIFIED:20211015T200511Z
UID:1286-1686952800-1686967200@mpmcc.com
SUMMARY:Downtown Fort Myers Music Walk!
DESCRIPTION:The River District comes alive on the third Friday of the month as local and regional musicians line the streets. From jazz and blues to rock & roll\, many genres can be heard and vary each month. Free to the public with many venues featuring additional attractions and specials.
URL:https://mpmcc.com/event/downtown-fort-myers-music-walk-2023-06-16/
LOCATION:River District Holidays\, 1400 JACKSON STREET\, Fort Myers\, FL\, 33902\, United States
END:VEVENT
BEGIN:VEVENT
DTSTART;TZID=UTC:20230616T170000
DTEND;TZID=UTC:20230616T220000
DTSTAMP:20260426T004923
CREATED:20180802T192204Z
LAST-MODIFIED:20180802T192204Z
UID:1285-1686934800-1686952800@mpmcc.com
SUMMARY:Food Truck Friday at Scotty's Bierwerks
DESCRIPTION:For this Food Truck Friday\, enjoy food from Classic Cuban & Ma Petite Crêperie from 5-9! Enjoy live music from Kyle Anne Duggan from 7-10! Hangout in the brewery/game room and play corn hole\, darts\, air hockey\, food\, and foosball! FAMILY & PET-FRIENDLY \n  \nEvery week there are different Food Trucks and different Musicians at the Brewery..
URL:https://mpmcc.com/event/food-truck-friday-at-scotts-brewery-2023-06-16/
LOCATION:Scotty’s Bierwerks\, 901 E Industrial Cir\, Cape Coral\, FL\, 33909\, United States
END:VEVENT
END:VCALENDAR