BEGIN:VCALENDAR
VERSION:2.0
PRODID:-//MPMCC - ECPv6.15.1.1//NONSGML v1.0//EN
CALSCALE:GREGORIAN
METHOD:PUBLISH
X-WR-CALNAME:MPMCC
X-ORIGINAL-URL:https://mpmcc.com
X-WR-CALDESC:Events for MPMCC
REFRESH-INTERVAL;VALUE=DURATION:PT1H
X-Robots-Tag:noindex
X-PUBLISHED-TTL:PT1H
BEGIN:VTIMEZONE
TZID:UTC
BEGIN:STANDARD
TZOFFSETFROM:+0000
TZOFFSETTO:+0000
TZNAME:UTC
DTSTART:20250101T000000
END:STANDARD
END:VTIMEZONE
BEGIN:VEVENT
DTSTART;TZID=UTC:20251016T170000
DTEND;TZID=UTC:20251016T210000
DTSTAMP:20260424T085337
CREATED:20180408T193536Z
LAST-MODIFIED:20180408T193536Z
UID:1700-1760634000-1760648400@mpmcc.com
SUMMARY:Bike Night
DESCRIPTION:Every Third Thursday of the Month\nLive Music\nCash Give Away\n$9 Biker BBQ\n$12.50 Buckets & $3 Wells\nBiker Jewelry for Sale\nEvent details at eventbrite.com!
URL:https://mpmcc.com/event/bike-night-2025-10-16/
LOCATION:Shell Factory and Nature Prk\, 2787 North Tamiami Trail\, North Fort Myers\, FL\, 33903\, United States
END:VEVENT
BEGIN:VEVENT
DTSTART;TZID=UTC:20251014T080000
DTEND;TZID=UTC:20251014T130000
DTSTAMP:20260424T085337
CREATED:20171230T032911Z
LAST-MODIFIED:20171230T032911Z
UID:1699-1760428800-1760446800@mpmcc.com
SUMMARY:Surfside Sunset Market
DESCRIPTION:Cape Coral’s only Year-Round Farmers Market. Located at The Shops at Surfside the market is located outside from November-April and indoors from May-October for your shopping comfort. Fresh\, local and healthy produce and citrus\, breads and much more!
URL:https://mpmcc.com/event/surfside-sunset-market-2025-10-14/
LOCATION:Surfside Sunset Market\, 2366 Surfside Blvd\, Cape Coral\, FL\, 33914\, United States
END:VEVENT
BEGIN:VEVENT
DTSTART;TZID=UTC:20251010T170000
DTEND;TZID=UTC:20251010T220000
DTSTAMP:20260424T085337
CREATED:20180802T192204Z
LAST-MODIFIED:20180802T192204Z
UID:1698-1760115600-1760133600@mpmcc.com
SUMMARY:Food Truck Friday at Scotty's Bierwerks
DESCRIPTION:For this Food Truck Friday\, enjoy food from Classic Cuban & Ma Petite Crêperie from 5-9! Enjoy live music from Kyle Anne Duggan from 7-10! Hangout in the brewery/game room and play corn hole\, darts\, air hockey\, food\, and foosball! FAMILY & PET-FRIENDLY \n  \nEvery week there are different Food Trucks and different Musicians at the Brewery..
URL:https://mpmcc.com/event/food-truck-friday-at-scotts-brewery-2025-10-10/
LOCATION:Scotty’s Bierwerks\, 901 E Industrial Cir\, Cape Coral\, FL\, 33909\, United States
END:VEVENT
BEGIN:VEVENT
DTSTART;TZID=UTC:20251007T080000
DTEND;TZID=UTC:20251007T130000
DTSTAMP:20260424T085337
CREATED:20171230T032911Z
LAST-MODIFIED:20171230T032911Z
UID:1697-1759824000-1759842000@mpmcc.com
SUMMARY:Surfside Sunset Market
DESCRIPTION:Cape Coral’s only Year-Round Farmers Market. Located at The Shops at Surfside the market is located outside from November-April and indoors from May-October for your shopping comfort. Fresh\, local and healthy produce and citrus\, breads and much more!
URL:https://mpmcc.com/event/surfside-sunset-market-2025-10-07/
LOCATION:Surfside Sunset Market\, 2366 Surfside Blvd\, Cape Coral\, FL\, 33914\, United States
END:VEVENT
BEGIN:VEVENT
DTSTART;TZID=UTC:20251004T090000
DTEND;TZID=UTC:20251004T140000
DTSTAMP:20260424T085337
CREATED:20180802T193112Z
LAST-MODIFIED:20180802T193112Z
UID:1696-1759568400-1759586400@mpmcc.com
SUMMARY:Market at the Moose
DESCRIPTION:Market at the Moose\nSaturday:  Check out the Market at the Moose every first Saturday of the month. \nIndoor/Outdoor market. \nMany vendors\, fresh produce\, baked goods\, food\, gourmet spices\, custom jewelry\, homemade items\, art\, crafts\, unique small businesses\, Live entertainment and more! \nFREE public admission! Keep our community strong by coming out and supporting our local small businesses! Moose Lodge #2199 on N Santa Barbara Blvd from 9 am – 2 pm.
URL:https://mpmcc.com/event/market-at-the-moose-2025-10-04/
LOCATION:Moose Lodge\, 155 Santa Barbara Blvd. N\, Cape Coral\, FL\, 33914\, United States
END:VEVENT
BEGIN:VEVENT
DTSTART;TZID=UTC:20251003T180000
DTEND;TZID=UTC:20251003T220000
DTSTAMP:20260424T085337
CREATED:20190930T221325Z
LAST-MODIFIED:20190930T221325Z
UID:1695-1759514400-1759528800@mpmcc.com
SUMMARY:Downtown Fort Myers Art Walk!
DESCRIPTION:A must do in the River District social scene is the monthly Art Walk. Always on the First Friday\, visit the many exciting galleries\, exhibitions\, and performances. Free to the public with many venues featuring additional attractions and specials. Rain or shine\, 6-10 pm.
URL:https://mpmcc.com/event/downtown-fort-myers-art-walk-2025-10-03/
LOCATION:River District Holidays\, 1400 JACKSON STREET\, Fort Myers\, FL\, 33902\, United States
END:VEVENT
BEGIN:VEVENT
DTSTART;TZID=UTC:20251003T170000
DTEND;TZID=UTC:20251003T220000
DTSTAMP:20260424T085337
CREATED:20180802T192204Z
LAST-MODIFIED:20180802T192204Z
UID:1694-1759510800-1759528800@mpmcc.com
SUMMARY:Food Truck Friday at Scotty's Bierwerks
DESCRIPTION:For this Food Truck Friday\, enjoy food from Classic Cuban & Ma Petite Crêperie from 5-9! Enjoy live music from Kyle Anne Duggan from 7-10! Hangout in the brewery/game room and play corn hole\, darts\, air hockey\, food\, and foosball! FAMILY & PET-FRIENDLY \n  \nEvery week there are different Food Trucks and different Musicians at the Brewery..
URL:https://mpmcc.com/event/food-truck-friday-at-scotts-brewery-2025-10-03/
LOCATION:Scotty’s Bierwerks\, 901 E Industrial Cir\, Cape Coral\, FL\, 33909\, United States
END:VEVENT
BEGIN:VEVENT
DTSTART;TZID=UTC:20250930T080000
DTEND;TZID=UTC:20250930T130000
DTSTAMP:20260424T085337
CREATED:20171230T032911Z
LAST-MODIFIED:20171230T032911Z
UID:1693-1759219200-1759237200@mpmcc.com
SUMMARY:Surfside Sunset Market
DESCRIPTION:Cape Coral’s only Year-Round Farmers Market. Located at The Shops at Surfside the market is located outside from November-April and indoors from May-October for your shopping comfort. Fresh\, local and healthy produce and citrus\, breads and much more!
URL:https://mpmcc.com/event/surfside-sunset-market-2025-09-30/
LOCATION:Surfside Sunset Market\, 2366 Surfside Blvd\, Cape Coral\, FL\, 33914\, United States
END:VEVENT
BEGIN:VEVENT
DTSTART;TZID=UTC:20250926T170000
DTEND;TZID=UTC:20250926T220000
DTSTAMP:20260424T085337
CREATED:20180802T192204Z
LAST-MODIFIED:20180802T192204Z
UID:1692-1758906000-1758924000@mpmcc.com
SUMMARY:Food Truck Friday at Scotty's Bierwerks
DESCRIPTION:For this Food Truck Friday\, enjoy food from Classic Cuban & Ma Petite Crêperie from 5-9! Enjoy live music from Kyle Anne Duggan from 7-10! Hangout in the brewery/game room and play corn hole\, darts\, air hockey\, food\, and foosball! FAMILY & PET-FRIENDLY \n  \nEvery week there are different Food Trucks and different Musicians at the Brewery..
URL:https://mpmcc.com/event/food-truck-friday-at-scotts-brewery-2025-09-26/
LOCATION:Scotty’s Bierwerks\, 901 E Industrial Cir\, Cape Coral\, FL\, 33909\, United States
END:VEVENT
BEGIN:VEVENT
DTSTART;TZID=UTC:20250923T080000
DTEND;TZID=UTC:20250923T130000
DTSTAMP:20260424T085337
CREATED:20171230T032911Z
LAST-MODIFIED:20171230T032911Z
UID:1691-1758614400-1758632400@mpmcc.com
SUMMARY:Surfside Sunset Market
DESCRIPTION:Cape Coral’s only Year-Round Farmers Market. Located at The Shops at Surfside the market is located outside from November-April and indoors from May-October for your shopping comfort. Fresh\, local and healthy produce and citrus\, breads and much more!
URL:https://mpmcc.com/event/surfside-sunset-market-2025-09-23/
LOCATION:Surfside Sunset Market\, 2366 Surfside Blvd\, Cape Coral\, FL\, 33914\, United States
END:VEVENT
BEGIN:VEVENT
DTSTART;TZID=UTC:20250919T220000
DTEND;TZID=UTC:20250920T020000
DTSTAMP:20260424T085337
CREATED:20190930T221642Z
LAST-MODIFIED:20190930T221642Z
UID:1690-1758319200-1758333600@mpmcc.com
SUMMARY:Downtown Fort Myers Music Walk!
DESCRIPTION:The River District comes alive on the third Friday of the month as local and regional musicians line the streets. From jazz and blues to rock & roll\, many genres can be heard and vary each month. Free to the public with many venues featuring additional attractions and specials.
URL:https://mpmcc.com/event/downtown-fort-myers-music-walk-2025-09-19/
LOCATION:River District Holidays\, 1400 JACKSON STREET\, Fort Myers\, FL\, 33902\, United States
END:VEVENT
BEGIN:VEVENT
DTSTART;TZID=UTC:20250919T170000
DTEND;TZID=UTC:20250919T220000
DTSTAMP:20260424T085337
CREATED:20180802T192204Z
LAST-MODIFIED:20180802T192204Z
UID:1689-1758301200-1758319200@mpmcc.com
SUMMARY:Food Truck Friday at Scotty's Bierwerks
DESCRIPTION:For this Food Truck Friday\, enjoy food from Classic Cuban & Ma Petite Crêperie from 5-9! Enjoy live music from Kyle Anne Duggan from 7-10! Hangout in the brewery/game room and play corn hole\, darts\, air hockey\, food\, and foosball! FAMILY & PET-FRIENDLY \n  \nEvery week there are different Food Trucks and different Musicians at the Brewery..
URL:https://mpmcc.com/event/food-truck-friday-at-scotts-brewery-2025-09-19/
LOCATION:Scotty’s Bierwerks\, 901 E Industrial Cir\, Cape Coral\, FL\, 33909\, United States
END:VEVENT
BEGIN:VEVENT
DTSTART;TZID=UTC:20250918T170000
DTEND;TZID=UTC:20250918T210000
DTSTAMP:20260424T085337
CREATED:20180408T193536Z
LAST-MODIFIED:20180408T193536Z
UID:1688-1758214800-1758229200@mpmcc.com
SUMMARY:Bike Night
DESCRIPTION:Every Third Thursday of the Month\nLive Music\nCash Give Away\n$9 Biker BBQ\n$12.50 Buckets & $3 Wells\nBiker Jewelry for Sale\nEvent details at eventbrite.com!
URL:https://mpmcc.com/event/bike-night-2025-09-18/
LOCATION:Shell Factory and Nature Prk\, 2787 North Tamiami Trail\, North Fort Myers\, FL\, 33903\, United States
END:VEVENT
BEGIN:VEVENT
DTSTART;TZID=UTC:20250916T080000
DTEND;TZID=UTC:20250916T130000
DTSTAMP:20260424T085337
CREATED:20171230T032911Z
LAST-MODIFIED:20171230T032911Z
UID:1687-1758009600-1758027600@mpmcc.com
SUMMARY:Surfside Sunset Market
DESCRIPTION:Cape Coral’s only Year-Round Farmers Market. Located at The Shops at Surfside the market is located outside from November-April and indoors from May-October for your shopping comfort. Fresh\, local and healthy produce and citrus\, breads and much more!
URL:https://mpmcc.com/event/surfside-sunset-market-2025-09-16/
LOCATION:Surfside Sunset Market\, 2366 Surfside Blvd\, Cape Coral\, FL\, 33914\, United States
END:VEVENT
BEGIN:VEVENT
DTSTART;TZID=UTC:20250912T170000
DTEND;TZID=UTC:20250912T220000
DTSTAMP:20260424T085337
CREATED:20180802T192204Z
LAST-MODIFIED:20180802T192204Z
UID:1686-1757696400-1757714400@mpmcc.com
SUMMARY:Food Truck Friday at Scotty's Bierwerks
DESCRIPTION:For this Food Truck Friday\, enjoy food from Classic Cuban & Ma Petite Crêperie from 5-9! Enjoy live music from Kyle Anne Duggan from 7-10! Hangout in the brewery/game room and play corn hole\, darts\, air hockey\, food\, and foosball! FAMILY & PET-FRIENDLY \n  \nEvery week there are different Food Trucks and different Musicians at the Brewery..
URL:https://mpmcc.com/event/food-truck-friday-at-scotts-brewery-2025-09-12/
LOCATION:Scotty’s Bierwerks\, 901 E Industrial Cir\, Cape Coral\, FL\, 33909\, United States
END:VEVENT
BEGIN:VEVENT
DTSTART;TZID=UTC:20250909T080000
DTEND;TZID=UTC:20250909T130000
DTSTAMP:20260424T085337
CREATED:20171230T032911Z
LAST-MODIFIED:20171230T032911Z
UID:1685-1757404800-1757422800@mpmcc.com
SUMMARY:Surfside Sunset Market
DESCRIPTION:Cape Coral’s only Year-Round Farmers Market. Located at The Shops at Surfside the market is located outside from November-April and indoors from May-October for your shopping comfort. Fresh\, local and healthy produce and citrus\, breads and much more!
URL:https://mpmcc.com/event/surfside-sunset-market-2025-09-09/
LOCATION:Surfside Sunset Market\, 2366 Surfside Blvd\, Cape Coral\, FL\, 33914\, United States
END:VEVENT
BEGIN:VEVENT
DTSTART;TZID=UTC:20250906T090000
DTEND;TZID=UTC:20250906T140000
DTSTAMP:20260424T085337
CREATED:20180802T193112Z
LAST-MODIFIED:20180802T193112Z
UID:1684-1757149200-1757167200@mpmcc.com
SUMMARY:Market at the Moose
DESCRIPTION:Market at the Moose\nSaturday:  Check out the Market at the Moose every first Saturday of the month. \nIndoor/Outdoor market. \nMany vendors\, fresh produce\, baked goods\, food\, gourmet spices\, custom jewelry\, homemade items\, art\, crafts\, unique small businesses\, Live entertainment and more! \nFREE public admission! Keep our community strong by coming out and supporting our local small businesses! Moose Lodge #2199 on N Santa Barbara Blvd from 9 am – 2 pm.
URL:https://mpmcc.com/event/market-at-the-moose-2025-09-06/
LOCATION:Moose Lodge\, 155 Santa Barbara Blvd. N\, Cape Coral\, FL\, 33914\, United States
END:VEVENT
BEGIN:VEVENT
DTSTART;TZID=UTC:20250905T180000
DTEND;TZID=UTC:20250905T220000
DTSTAMP:20260424T085337
CREATED:20190930T221325Z
LAST-MODIFIED:20190930T221325Z
UID:1683-1757095200-1757109600@mpmcc.com
SUMMARY:Downtown Fort Myers Art Walk!
DESCRIPTION:A must do in the River District social scene is the monthly Art Walk. Always on the First Friday\, visit the many exciting galleries\, exhibitions\, and performances. Free to the public with many venues featuring additional attractions and specials. Rain or shine\, 6-10 pm.
URL:https://mpmcc.com/event/downtown-fort-myers-art-walk-2025-09-05/
LOCATION:River District Holidays\, 1400 JACKSON STREET\, Fort Myers\, FL\, 33902\, United States
END:VEVENT
BEGIN:VEVENT
DTSTART;TZID=UTC:20250905T170000
DTEND;TZID=UTC:20250905T220000
DTSTAMP:20260424T085337
CREATED:20180802T192204Z
LAST-MODIFIED:20180802T192204Z
UID:1682-1757091600-1757109600@mpmcc.com
SUMMARY:Food Truck Friday at Scotty's Bierwerks
DESCRIPTION:For this Food Truck Friday\, enjoy food from Classic Cuban & Ma Petite Crêperie from 5-9! Enjoy live music from Kyle Anne Duggan from 7-10! Hangout in the brewery/game room and play corn hole\, darts\, air hockey\, food\, and foosball! FAMILY & PET-FRIENDLY \n  \nEvery week there are different Food Trucks and different Musicians at the Brewery..
URL:https://mpmcc.com/event/food-truck-friday-at-scotts-brewery-2025-09-05/
LOCATION:Scotty’s Bierwerks\, 901 E Industrial Cir\, Cape Coral\, FL\, 33909\, United States
END:VEVENT
BEGIN:VEVENT
DTSTART;TZID=UTC:20250902T080000
DTEND;TZID=UTC:20250902T130000
DTSTAMP:20260424T085337
CREATED:20171230T032911Z
LAST-MODIFIED:20171230T032911Z
UID:1681-1756800000-1756818000@mpmcc.com
SUMMARY:Surfside Sunset Market
DESCRIPTION:Cape Coral’s only Year-Round Farmers Market. Located at The Shops at Surfside the market is located outside from November-April and indoors from May-October for your shopping comfort. Fresh\, local and healthy produce and citrus\, breads and much more!
URL:https://mpmcc.com/event/surfside-sunset-market-2025-09-02/
LOCATION:Surfside Sunset Market\, 2366 Surfside Blvd\, Cape Coral\, FL\, 33914\, United States
END:VEVENT
BEGIN:VEVENT
DTSTART;TZID=UTC:20250829T170000
DTEND;TZID=UTC:20250829T220000
DTSTAMP:20260424T085337
CREATED:20180802T192204Z
LAST-MODIFIED:20180802T192204Z
UID:1680-1756486800-1756504800@mpmcc.com
SUMMARY:Food Truck Friday at Scotty's Bierwerks
DESCRIPTION:For this Food Truck Friday\, enjoy food from Classic Cuban & Ma Petite Crêperie from 5-9! Enjoy live music from Kyle Anne Duggan from 7-10! Hangout in the brewery/game room and play corn hole\, darts\, air hockey\, food\, and foosball! FAMILY & PET-FRIENDLY \n  \nEvery week there are different Food Trucks and different Musicians at the Brewery..
URL:https://mpmcc.com/event/food-truck-friday-at-scotts-brewery-2025-08-29/
LOCATION:Scotty’s Bierwerks\, 901 E Industrial Cir\, Cape Coral\, FL\, 33909\, United States
END:VEVENT
BEGIN:VEVENT
DTSTART;TZID=UTC:20250826T080000
DTEND;TZID=UTC:20250826T130000
DTSTAMP:20260424T085337
CREATED:20171230T032911Z
LAST-MODIFIED:20171230T032911Z
UID:1679-1756195200-1756213200@mpmcc.com
SUMMARY:Surfside Sunset Market
DESCRIPTION:Cape Coral’s only Year-Round Farmers Market. Located at The Shops at Surfside the market is located outside from November-April and indoors from May-October for your shopping comfort. Fresh\, local and healthy produce and citrus\, breads and much more!
URL:https://mpmcc.com/event/surfside-sunset-market-2025-08-26/
LOCATION:Surfside Sunset Market\, 2366 Surfside Blvd\, Cape Coral\, FL\, 33914\, United States
END:VEVENT
BEGIN:VEVENT
DTSTART;TZID=UTC:20250822T170000
DTEND;TZID=UTC:20250822T220000
DTSTAMP:20260424T085337
CREATED:20180802T192204Z
LAST-MODIFIED:20180802T192204Z
UID:1678-1755882000-1755900000@mpmcc.com
SUMMARY:Food Truck Friday at Scotty's Bierwerks
DESCRIPTION:For this Food Truck Friday\, enjoy food from Classic Cuban & Ma Petite Crêperie from 5-9! Enjoy live music from Kyle Anne Duggan from 7-10! Hangout in the brewery/game room and play corn hole\, darts\, air hockey\, food\, and foosball! FAMILY & PET-FRIENDLY \n  \nEvery week there are different Food Trucks and different Musicians at the Brewery..
URL:https://mpmcc.com/event/food-truck-friday-at-scotts-brewery-2025-08-22/
LOCATION:Scotty’s Bierwerks\, 901 E Industrial Cir\, Cape Coral\, FL\, 33909\, United States
END:VEVENT
BEGIN:VEVENT
DTSTART;TZID=UTC:20250821T170000
DTEND;TZID=UTC:20250821T210000
DTSTAMP:20260424T085337
CREATED:20180408T193536Z
LAST-MODIFIED:20180408T193536Z
UID:1677-1755795600-1755810000@mpmcc.com
SUMMARY:Bike Night
DESCRIPTION:Every Third Thursday of the Month\nLive Music\nCash Give Away\n$9 Biker BBQ\n$12.50 Buckets & $3 Wells\nBiker Jewelry for Sale\nEvent details at eventbrite.com!
URL:https://mpmcc.com/event/bike-night-2025-08-21/
LOCATION:Shell Factory and Nature Prk\, 2787 North Tamiami Trail\, North Fort Myers\, FL\, 33903\, United States
END:VEVENT
BEGIN:VEVENT
DTSTART;TZID=UTC:20250819T080000
DTEND;TZID=UTC:20250819T130000
DTSTAMP:20260424T085337
CREATED:20171230T032911Z
LAST-MODIFIED:20171230T032911Z
UID:1676-1755590400-1755608400@mpmcc.com
SUMMARY:Surfside Sunset Market
DESCRIPTION:Cape Coral’s only Year-Round Farmers Market. Located at The Shops at Surfside the market is located outside from November-April and indoors from May-October for your shopping comfort. Fresh\, local and healthy produce and citrus\, breads and much more!
URL:https://mpmcc.com/event/surfside-sunset-market-2025-08-19/
LOCATION:Surfside Sunset Market\, 2366 Surfside Blvd\, Cape Coral\, FL\, 33914\, United States
END:VEVENT
BEGIN:VEVENT
DTSTART;TZID=UTC:20250815T220000
DTEND;TZID=UTC:20250816T020000
DTSTAMP:20260424T085337
CREATED:20190930T221642Z
LAST-MODIFIED:20190930T221642Z
UID:1675-1755295200-1755309600@mpmcc.com
SUMMARY:Downtown Fort Myers Music Walk!
DESCRIPTION:The River District comes alive on the third Friday of the month as local and regional musicians line the streets. From jazz and blues to rock & roll\, many genres can be heard and vary each month. Free to the public with many venues featuring additional attractions and specials.
URL:https://mpmcc.com/event/downtown-fort-myers-music-walk-2025-08-15/
LOCATION:River District Holidays\, 1400 JACKSON STREET\, Fort Myers\, FL\, 33902\, United States
END:VEVENT
BEGIN:VEVENT
DTSTART;TZID=UTC:20250815T170000
DTEND;TZID=UTC:20250815T220000
DTSTAMP:20260424T085337
CREATED:20180802T192204Z
LAST-MODIFIED:20180802T192204Z
UID:1674-1755277200-1755295200@mpmcc.com
SUMMARY:Food Truck Friday at Scotty's Bierwerks
DESCRIPTION:For this Food Truck Friday\, enjoy food from Classic Cuban & Ma Petite Crêperie from 5-9! Enjoy live music from Kyle Anne Duggan from 7-10! Hangout in the brewery/game room and play corn hole\, darts\, air hockey\, food\, and foosball! FAMILY & PET-FRIENDLY \n  \nEvery week there are different Food Trucks and different Musicians at the Brewery..
URL:https://mpmcc.com/event/food-truck-friday-at-scotts-brewery-2025-08-15/
LOCATION:Scotty’s Bierwerks\, 901 E Industrial Cir\, Cape Coral\, FL\, 33909\, United States
END:VEVENT
BEGIN:VEVENT
DTSTART;TZID=UTC:20250812T080000
DTEND;TZID=UTC:20250812T130000
DTSTAMP:20260424T085337
CREATED:20171230T032911Z
LAST-MODIFIED:20171230T032911Z
UID:1673-1754985600-1755003600@mpmcc.com
SUMMARY:Surfside Sunset Market
DESCRIPTION:Cape Coral’s only Year-Round Farmers Market. Located at The Shops at Surfside the market is located outside from November-April and indoors from May-October for your shopping comfort. Fresh\, local and healthy produce and citrus\, breads and much more!
URL:https://mpmcc.com/event/surfside-sunset-market-2025-08-12/
LOCATION:Surfside Sunset Market\, 2366 Surfside Blvd\, Cape Coral\, FL\, 33914\, United States
END:VEVENT
BEGIN:VEVENT
DTSTART;TZID=UTC:20250808T170000
DTEND;TZID=UTC:20250808T220000
DTSTAMP:20260424T085337
CREATED:20180802T192204Z
LAST-MODIFIED:20180802T192204Z
UID:1672-1754672400-1754690400@mpmcc.com
SUMMARY:Food Truck Friday at Scotty's Bierwerks
DESCRIPTION:For this Food Truck Friday\, enjoy food from Classic Cuban & Ma Petite Crêperie from 5-9! Enjoy live music from Kyle Anne Duggan from 7-10! Hangout in the brewery/game room and play corn hole\, darts\, air hockey\, food\, and foosball! FAMILY & PET-FRIENDLY \n  \nEvery week there are different Food Trucks and different Musicians at the Brewery..
URL:https://mpmcc.com/event/food-truck-friday-at-scotts-brewery-2025-08-08/
LOCATION:Scotty’s Bierwerks\, 901 E Industrial Cir\, Cape Coral\, FL\, 33909\, United States
END:VEVENT
BEGIN:VEVENT
DTSTART;TZID=UTC:20250805T080000
DTEND;TZID=UTC:20250805T130000
DTSTAMP:20260424T085337
CREATED:20171230T032911Z
LAST-MODIFIED:20171230T032911Z
UID:1671-1754380800-1754398800@mpmcc.com
SUMMARY:Surfside Sunset Market
DESCRIPTION:Cape Coral’s only Year-Round Farmers Market. Located at The Shops at Surfside the market is located outside from November-April and indoors from May-October for your shopping comfort. Fresh\, local and healthy produce and citrus\, breads and much more!
URL:https://mpmcc.com/event/surfside-sunset-market-2025-08-05/
LOCATION:Surfside Sunset Market\, 2366 Surfside Blvd\, Cape Coral\, FL\, 33914\, United States
END:VEVENT
END:VCALENDAR