BEGIN:VCALENDAR
VERSION:2.0
PRODID:-//MPMCC - ECPv6.15.1.1//NONSGML v1.0//EN
CALSCALE:GREGORIAN
METHOD:PUBLISH
X-ORIGINAL-URL:https://mpmcc.com
X-WR-CALDESC:Events for MPMCC
REFRESH-INTERVAL;VALUE=DURATION:PT1H
X-Robots-Tag:noindex
X-PUBLISHED-TTL:PT1H
BEGIN:VTIMEZONE
TZID:UTC
BEGIN:STANDARD
TZOFFSETFROM:+0000
TZOFFSETTO:+0000
TZNAME:UTC
DTSTART:20260101T000000
END:STANDARD
END:VTIMEZONE
BEGIN:VEVENT
DTSTART;TZID=UTC:20260707T080000
DTEND;TZID=UTC:20260707T130000
DTSTAMP:20260424T000147
CREATED:20171230T032911Z
LAST-MODIFIED:20171230T032911Z
UID:1811-1783411200-1783429200@mpmcc.com
SUMMARY:Surfside Sunset Market
DESCRIPTION:Cape Coral’s only Year-Round Farmers Market. Located at The Shops at Surfside the market is located outside from November-April and indoors from May-October for your shopping comfort. Fresh\, local and healthy produce and citrus\, breads and much more!
URL:https://mpmcc.com/event/surfside-sunset-market-2026-07-07/
LOCATION:Surfside Sunset Market\, 2366 Surfside Blvd\, Cape Coral\, FL\, 33914\, United States
END:VEVENT
BEGIN:VEVENT
DTSTART;TZID=UTC:20260710T170000
DTEND;TZID=UTC:20260710T220000
DTSTAMP:20260424T000147
CREATED:20180802T192204Z
LAST-MODIFIED:20180802T192204Z
UID:1812-1783702800-1783720800@mpmcc.com
SUMMARY:Food Truck Friday at Scotty's Bierwerks
DESCRIPTION:For this Food Truck Friday\, enjoy food from Classic Cuban & Ma Petite Crêperie from 5-9! Enjoy live music from Kyle Anne Duggan from 7-10! Hangout in the brewery/game room and play corn hole\, darts\, air hockey\, food\, and foosball! FAMILY & PET-FRIENDLY \n  \nEvery week there are different Food Trucks and different Musicians at the Brewery..
URL:https://mpmcc.com/event/food-truck-friday-at-scotts-brewery-2026-07-10/
LOCATION:Scotty’s Bierwerks\, 901 E Industrial Cir\, Cape Coral\, FL\, 33909\, United States
END:VEVENT
BEGIN:VEVENT
DTSTART;TZID=UTC:20260714T080000
DTEND;TZID=UTC:20260714T130000
DTSTAMP:20260424T000147
CREATED:20171230T032911Z
LAST-MODIFIED:20171230T032911Z
UID:1813-1784016000-1784034000@mpmcc.com
SUMMARY:Surfside Sunset Market
DESCRIPTION:Cape Coral’s only Year-Round Farmers Market. Located at The Shops at Surfside the market is located outside from November-April and indoors from May-October for your shopping comfort. Fresh\, local and healthy produce and citrus\, breads and much more!
URL:https://mpmcc.com/event/surfside-sunset-market-2026-07-14/
LOCATION:Surfside Sunset Market\, 2366 Surfside Blvd\, Cape Coral\, FL\, 33914\, United States
END:VEVENT
BEGIN:VEVENT
DTSTART;TZID=UTC:20260716T170000
DTEND;TZID=UTC:20260716T210000
DTSTAMP:20260424T000147
CREATED:20180408T193536Z
LAST-MODIFIED:20180408T193536Z
UID:1814-1784221200-1784235600@mpmcc.com
SUMMARY:Bike Night
DESCRIPTION:Every Third Thursday of the Month\nLive Music\nCash Give Away\n$9 Biker BBQ\n$12.50 Buckets & $3 Wells\nBiker Jewelry for Sale\nEvent details at eventbrite.com!
URL:https://mpmcc.com/event/bike-night-2026-07-16/
LOCATION:Shell Factory and Nature Prk\, 2787 North Tamiami Trail\, North Fort Myers\, FL\, 33903\, United States
END:VEVENT
BEGIN:VEVENT
DTSTART;TZID=UTC:20260717T170000
DTEND;TZID=UTC:20260717T220000
DTSTAMP:20260424T000147
CREATED:20180802T192204Z
LAST-MODIFIED:20180802T192204Z
UID:1815-1784307600-1784325600@mpmcc.com
SUMMARY:Food Truck Friday at Scotty's Bierwerks
DESCRIPTION:For this Food Truck Friday\, enjoy food from Classic Cuban & Ma Petite Crêperie from 5-9! Enjoy live music from Kyle Anne Duggan from 7-10! Hangout in the brewery/game room and play corn hole\, darts\, air hockey\, food\, and foosball! FAMILY & PET-FRIENDLY \n  \nEvery week there are different Food Trucks and different Musicians at the Brewery..
URL:https://mpmcc.com/event/food-truck-friday-at-scotts-brewery-2026-07-17/
LOCATION:Scotty’s Bierwerks\, 901 E Industrial Cir\, Cape Coral\, FL\, 33909\, United States
END:VEVENT
BEGIN:VEVENT
DTSTART;TZID=UTC:20260717T220000
DTEND;TZID=UTC:20260718T020000
DTSTAMP:20260424T000147
CREATED:20190930T221642Z
LAST-MODIFIED:20190930T221642Z
UID:1816-1784325600-1784340000@mpmcc.com
SUMMARY:Downtown Fort Myers Music Walk!
DESCRIPTION:The River District comes alive on the third Friday of the month as local and regional musicians line the streets. From jazz and blues to rock & roll\, many genres can be heard and vary each month. Free to the public with many venues featuring additional attractions and specials.
URL:https://mpmcc.com/event/downtown-fort-myers-music-walk-2026-07-17/
LOCATION:River District Holidays\, 1400 JACKSON STREET\, Fort Myers\, FL\, 33902\, United States
END:VEVENT
BEGIN:VEVENT
DTSTART;TZID=UTC:20260721T080000
DTEND;TZID=UTC:20260721T130000
DTSTAMP:20260424T000147
CREATED:20171230T032911Z
LAST-MODIFIED:20171230T032911Z
UID:1817-1784620800-1784638800@mpmcc.com
SUMMARY:Surfside Sunset Market
DESCRIPTION:Cape Coral’s only Year-Round Farmers Market. Located at The Shops at Surfside the market is located outside from November-April and indoors from May-October for your shopping comfort. Fresh\, local and healthy produce and citrus\, breads and much more!
URL:https://mpmcc.com/event/surfside-sunset-market-2026-07-21/
LOCATION:Surfside Sunset Market\, 2366 Surfside Blvd\, Cape Coral\, FL\, 33914\, United States
END:VEVENT
BEGIN:VEVENT
DTSTART;TZID=UTC:20260724T170000
DTEND;TZID=UTC:20260724T220000
DTSTAMP:20260424T000147
CREATED:20180802T192204Z
LAST-MODIFIED:20180802T192204Z
UID:1818-1784912400-1784930400@mpmcc.com
SUMMARY:Food Truck Friday at Scotty's Bierwerks
DESCRIPTION:For this Food Truck Friday\, enjoy food from Classic Cuban & Ma Petite Crêperie from 5-9! Enjoy live music from Kyle Anne Duggan from 7-10! Hangout in the brewery/game room and play corn hole\, darts\, air hockey\, food\, and foosball! FAMILY & PET-FRIENDLY \n  \nEvery week there are different Food Trucks and different Musicians at the Brewery..
URL:https://mpmcc.com/event/food-truck-friday-at-scotts-brewery-2026-07-24/
LOCATION:Scotty’s Bierwerks\, 901 E Industrial Cir\, Cape Coral\, FL\, 33909\, United States
END:VEVENT
BEGIN:VEVENT
DTSTART;TZID=UTC:20260728T080000
DTEND;TZID=UTC:20260728T130000
DTSTAMP:20260424T000147
CREATED:20171230T032911Z
LAST-MODIFIED:20171230T032911Z
UID:1820-1785225600-1785243600@mpmcc.com
SUMMARY:Surfside Sunset Market
DESCRIPTION:Cape Coral’s only Year-Round Farmers Market. Located at The Shops at Surfside the market is located outside from November-April and indoors from May-October for your shopping comfort. Fresh\, local and healthy produce and citrus\, breads and much more!
URL:https://mpmcc.com/event/surfside-sunset-market-2026-07-28/
LOCATION:Surfside Sunset Market\, 2366 Surfside Blvd\, Cape Coral\, FL\, 33914\, United States
END:VEVENT
BEGIN:VEVENT
DTSTART;TZID=UTC:20260731T170000
DTEND;TZID=UTC:20260731T220000
DTSTAMP:20260424T000147
CREATED:20180802T192204Z
LAST-MODIFIED:20180802T192204Z
UID:1821-1785517200-1785535200@mpmcc.com
SUMMARY:Food Truck Friday at Scotty's Bierwerks
DESCRIPTION:For this Food Truck Friday\, enjoy food from Classic Cuban & Ma Petite Crêperie from 5-9! Enjoy live music from Kyle Anne Duggan from 7-10! Hangout in the brewery/game room and play corn hole\, darts\, air hockey\, food\, and foosball! FAMILY & PET-FRIENDLY \n  \nEvery week there are different Food Trucks and different Musicians at the Brewery..
URL:https://mpmcc.com/event/food-truck-friday-at-scotts-brewery-2026-07-31/
LOCATION:Scotty’s Bierwerks\, 901 E Industrial Cir\, Cape Coral\, FL\, 33909\, United States
END:VEVENT
BEGIN:VEVENT
DTSTART;TZID=UTC:20260801T090000
DTEND;TZID=UTC:20260801T140000
DTSTAMP:20260424T000147
CREATED:20180802T193112Z
LAST-MODIFIED:20180802T193112Z
UID:1822-1785574800-1785592800@mpmcc.com
SUMMARY:Market at the Moose
DESCRIPTION:Market at the Moose\nSaturday:  Check out the Market at the Moose every first Saturday of the month. \nIndoor/Outdoor market. \nMany vendors\, fresh produce\, baked goods\, food\, gourmet spices\, custom jewelry\, homemade items\, art\, crafts\, unique small businesses\, Live entertainment and more! \nFREE public admission! Keep our community strong by coming out and supporting our local small businesses! Moose Lodge #2199 on N Santa Barbara Blvd from 9 am – 2 pm.
URL:https://mpmcc.com/event/market-at-the-moose-2026-08-01/
LOCATION:Moose Lodge\, 155 Santa Barbara Blvd. N\, Cape Coral\, FL\, 33914\, United States
END:VEVENT
BEGIN:VEVENT
DTSTART;TZID=UTC:20260804T080000
DTEND;TZID=UTC:20260804T130000
DTSTAMP:20260424T000147
CREATED:20171230T032911Z
LAST-MODIFIED:20171230T032911Z
UID:1823-1785830400-1785848400@mpmcc.com
SUMMARY:Surfside Sunset Market
DESCRIPTION:Cape Coral’s only Year-Round Farmers Market. Located at The Shops at Surfside the market is located outside from November-April and indoors from May-October for your shopping comfort. Fresh\, local and healthy produce and citrus\, breads and much more!
URL:https://mpmcc.com/event/surfside-sunset-market-2026-08-04/
LOCATION:Surfside Sunset Market\, 2366 Surfside Blvd\, Cape Coral\, FL\, 33914\, United States
END:VEVENT
BEGIN:VEVENT
DTSTART;TZID=UTC:20260807T170000
DTEND;TZID=UTC:20260807T220000
DTSTAMP:20260424T000147
CREATED:20180802T192204Z
LAST-MODIFIED:20180802T192204Z
UID:1824-1786122000-1786140000@mpmcc.com
SUMMARY:Food Truck Friday at Scotty's Bierwerks
DESCRIPTION:For this Food Truck Friday\, enjoy food from Classic Cuban & Ma Petite Crêperie from 5-9! Enjoy live music from Kyle Anne Duggan from 7-10! Hangout in the brewery/game room and play corn hole\, darts\, air hockey\, food\, and foosball! FAMILY & PET-FRIENDLY \n  \nEvery week there are different Food Trucks and different Musicians at the Brewery..
URL:https://mpmcc.com/event/food-truck-friday-at-scotts-brewery-2026-08-07/
LOCATION:Scotty’s Bierwerks\, 901 E Industrial Cir\, Cape Coral\, FL\, 33909\, United States
END:VEVENT
BEGIN:VEVENT
DTSTART;TZID=UTC:20260807T180000
DTEND;TZID=UTC:20260807T220000
DTSTAMP:20260424T000147
CREATED:20190930T221325Z
LAST-MODIFIED:20190930T221325Z
UID:1825-1786125600-1786140000@mpmcc.com
SUMMARY:Downtown Fort Myers Art Walk!
DESCRIPTION:A must do in the River District social scene is the monthly Art Walk. Always on the First Friday\, visit the many exciting galleries\, exhibitions\, and performances. Free to the public with many venues featuring additional attractions and specials. Rain or shine\, 6-10 pm.
URL:https://mpmcc.com/event/downtown-fort-myers-art-walk-2026-08-07/
LOCATION:River District Holidays\, 1400 JACKSON STREET\, Fort Myers\, FL\, 33902\, United States
END:VEVENT
BEGIN:VEVENT
DTSTART;TZID=UTC:20260811T080000
DTEND;TZID=UTC:20260811T130000
DTSTAMP:20260424T000147
CREATED:20171230T032911Z
LAST-MODIFIED:20171230T032911Z
UID:1826-1786435200-1786453200@mpmcc.com
SUMMARY:Surfside Sunset Market
DESCRIPTION:Cape Coral’s only Year-Round Farmers Market. Located at The Shops at Surfside the market is located outside from November-April and indoors from May-October for your shopping comfort. Fresh\, local and healthy produce and citrus\, breads and much more!
URL:https://mpmcc.com/event/surfside-sunset-market-2026-08-11/
LOCATION:Surfside Sunset Market\, 2366 Surfside Blvd\, Cape Coral\, FL\, 33914\, United States
END:VEVENT
BEGIN:VEVENT
DTSTART;TZID=UTC:20260814T170000
DTEND;TZID=UTC:20260814T220000
DTSTAMP:20260424T000147
CREATED:20180802T192204Z
LAST-MODIFIED:20180802T192204Z
UID:1827-1786726800-1786744800@mpmcc.com
SUMMARY:Food Truck Friday at Scotty's Bierwerks
DESCRIPTION:For this Food Truck Friday\, enjoy food from Classic Cuban & Ma Petite Crêperie from 5-9! Enjoy live music from Kyle Anne Duggan from 7-10! Hangout in the brewery/game room and play corn hole\, darts\, air hockey\, food\, and foosball! FAMILY & PET-FRIENDLY \n  \nEvery week there are different Food Trucks and different Musicians at the Brewery..
URL:https://mpmcc.com/event/food-truck-friday-at-scotts-brewery-2026-08-14/
LOCATION:Scotty’s Bierwerks\, 901 E Industrial Cir\, Cape Coral\, FL\, 33909\, United States
END:VEVENT
BEGIN:VEVENT
DTSTART;TZID=UTC:20260818T080000
DTEND;TZID=UTC:20260818T130000
DTSTAMP:20260424T000147
CREATED:20171230T032911Z
LAST-MODIFIED:20171230T032911Z
UID:1828-1787040000-1787058000@mpmcc.com
SUMMARY:Surfside Sunset Market
DESCRIPTION:Cape Coral’s only Year-Round Farmers Market. Located at The Shops at Surfside the market is located outside from November-April and indoors from May-October for your shopping comfort. Fresh\, local and healthy produce and citrus\, breads and much more!
URL:https://mpmcc.com/event/surfside-sunset-market-2026-08-18/
LOCATION:Surfside Sunset Market\, 2366 Surfside Blvd\, Cape Coral\, FL\, 33914\, United States
END:VEVENT
BEGIN:VEVENT
DTSTART;TZID=UTC:20260820T170000
DTEND;TZID=UTC:20260820T210000
DTSTAMP:20260424T000147
CREATED:20180408T193536Z
LAST-MODIFIED:20180408T193536Z
UID:1829-1787245200-1787259600@mpmcc.com
SUMMARY:Bike Night
DESCRIPTION:Every Third Thursday of the Month\nLive Music\nCash Give Away\n$9 Biker BBQ\n$12.50 Buckets & $3 Wells\nBiker Jewelry for Sale\nEvent details at eventbrite.com!
URL:https://mpmcc.com/event/bike-night-2026-08-20/
LOCATION:Shell Factory and Nature Prk\, 2787 North Tamiami Trail\, North Fort Myers\, FL\, 33903\, United States
END:VEVENT
BEGIN:VEVENT
DTSTART;TZID=UTC:20260821T170000
DTEND;TZID=UTC:20260821T220000
DTSTAMP:20260424T000147
CREATED:20180802T192204Z
LAST-MODIFIED:20180802T192204Z
UID:1830-1787331600-1787349600@mpmcc.com
SUMMARY:Food Truck Friday at Scotty's Bierwerks
DESCRIPTION:For this Food Truck Friday\, enjoy food from Classic Cuban & Ma Petite Crêperie from 5-9! Enjoy live music from Kyle Anne Duggan from 7-10! Hangout in the brewery/game room and play corn hole\, darts\, air hockey\, food\, and foosball! FAMILY & PET-FRIENDLY \n  \nEvery week there are different Food Trucks and different Musicians at the Brewery..
URL:https://mpmcc.com/event/food-truck-friday-at-scotts-brewery-2026-08-21/
LOCATION:Scotty’s Bierwerks\, 901 E Industrial Cir\, Cape Coral\, FL\, 33909\, United States
END:VEVENT
BEGIN:VEVENT
DTSTART;TZID=UTC:20260821T220000
DTEND;TZID=UTC:20260822T020000
DTSTAMP:20260424T000147
CREATED:20190930T221642Z
LAST-MODIFIED:20190930T221642Z
UID:1831-1787349600-1787364000@mpmcc.com
SUMMARY:Downtown Fort Myers Music Walk!
DESCRIPTION:The River District comes alive on the third Friday of the month as local and regional musicians line the streets. From jazz and blues to rock & roll\, many genres can be heard and vary each month. Free to the public with many venues featuring additional attractions and specials.
URL:https://mpmcc.com/event/downtown-fort-myers-music-walk-2026-08-21/
LOCATION:River District Holidays\, 1400 JACKSON STREET\, Fort Myers\, FL\, 33902\, United States
END:VEVENT
BEGIN:VEVENT
DTSTART;TZID=UTC:20260825T080000
DTEND;TZID=UTC:20260825T130000
DTSTAMP:20260424T000147
CREATED:20171230T032911Z
LAST-MODIFIED:20171230T032911Z
UID:1832-1787644800-1787662800@mpmcc.com
SUMMARY:Surfside Sunset Market
DESCRIPTION:Cape Coral’s only Year-Round Farmers Market. Located at The Shops at Surfside the market is located outside from November-April and indoors from May-October for your shopping comfort. Fresh\, local and healthy produce and citrus\, breads and much more!
URL:https://mpmcc.com/event/surfside-sunset-market-2026-08-25/
LOCATION:Surfside Sunset Market\, 2366 Surfside Blvd\, Cape Coral\, FL\, 33914\, United States
END:VEVENT
BEGIN:VEVENT
DTSTART;TZID=UTC:20260828T170000
DTEND;TZID=UTC:20260828T220000
DTSTAMP:20260424T000147
CREATED:20180802T192204Z
LAST-MODIFIED:20180802T192204Z
UID:1833-1787936400-1787954400@mpmcc.com
SUMMARY:Food Truck Friday at Scotty's Bierwerks
DESCRIPTION:For this Food Truck Friday\, enjoy food from Classic Cuban & Ma Petite Crêperie from 5-9! Enjoy live music from Kyle Anne Duggan from 7-10! Hangout in the brewery/game room and play corn hole\, darts\, air hockey\, food\, and foosball! FAMILY & PET-FRIENDLY \n  \nEvery week there are different Food Trucks and different Musicians at the Brewery..
URL:https://mpmcc.com/event/food-truck-friday-at-scotts-brewery-2026-08-28/
LOCATION:Scotty’s Bierwerks\, 901 E Industrial Cir\, Cape Coral\, FL\, 33909\, United States
END:VEVENT
BEGIN:VEVENT
DTSTART;TZID=UTC:20260901T080000
DTEND;TZID=UTC:20260901T130000
DTSTAMP:20260424T000147
CREATED:20171230T032911Z
LAST-MODIFIED:20171230T032911Z
UID:1834-1788249600-1788267600@mpmcc.com
SUMMARY:Surfside Sunset Market
DESCRIPTION:Cape Coral’s only Year-Round Farmers Market. Located at The Shops at Surfside the market is located outside from November-April and indoors from May-October for your shopping comfort. Fresh\, local and healthy produce and citrus\, breads and much more!
URL:https://mpmcc.com/event/surfside-sunset-market-2026-09-01/
LOCATION:Surfside Sunset Market\, 2366 Surfside Blvd\, Cape Coral\, FL\, 33914\, United States
END:VEVENT
BEGIN:VEVENT
DTSTART;TZID=UTC:20260904T170000
DTEND;TZID=UTC:20260904T220000
DTSTAMP:20260424T000147
CREATED:20180802T192204Z
LAST-MODIFIED:20180802T192204Z
UID:1835-1788541200-1788559200@mpmcc.com
SUMMARY:Food Truck Friday at Scotty's Bierwerks
DESCRIPTION:For this Food Truck Friday\, enjoy food from Classic Cuban & Ma Petite Crêperie from 5-9! Enjoy live music from Kyle Anne Duggan from 7-10! Hangout in the brewery/game room and play corn hole\, darts\, air hockey\, food\, and foosball! FAMILY & PET-FRIENDLY \n  \nEvery week there are different Food Trucks and different Musicians at the Brewery..
URL:https://mpmcc.com/event/food-truck-friday-at-scotts-brewery-2026-09-04/
LOCATION:Scotty’s Bierwerks\, 901 E Industrial Cir\, Cape Coral\, FL\, 33909\, United States
END:VEVENT
BEGIN:VEVENT
DTSTART;TZID=UTC:20260904T180000
DTEND;TZID=UTC:20260904T220000
DTSTAMP:20260424T000147
CREATED:20190930T221325Z
LAST-MODIFIED:20190930T221325Z
UID:1836-1788544800-1788559200@mpmcc.com
SUMMARY:Downtown Fort Myers Art Walk!
DESCRIPTION:A must do in the River District social scene is the monthly Art Walk. Always on the First Friday\, visit the many exciting galleries\, exhibitions\, and performances. Free to the public with many venues featuring additional attractions and specials. Rain or shine\, 6-10 pm.
URL:https://mpmcc.com/event/downtown-fort-myers-art-walk-2026-09-04/
LOCATION:River District Holidays\, 1400 JACKSON STREET\, Fort Myers\, FL\, 33902\, United States
END:VEVENT
BEGIN:VEVENT
DTSTART;TZID=UTC:20260905T090000
DTEND;TZID=UTC:20260905T140000
DTSTAMP:20260424T000147
CREATED:20180802T193112Z
LAST-MODIFIED:20180802T193112Z
UID:1837-1788598800-1788616800@mpmcc.com
SUMMARY:Market at the Moose
DESCRIPTION:Market at the Moose\nSaturday:  Check out the Market at the Moose every first Saturday of the month. \nIndoor/Outdoor market. \nMany vendors\, fresh produce\, baked goods\, food\, gourmet spices\, custom jewelry\, homemade items\, art\, crafts\, unique small businesses\, Live entertainment and more! \nFREE public admission! Keep our community strong by coming out and supporting our local small businesses! Moose Lodge #2199 on N Santa Barbara Blvd from 9 am – 2 pm.
URL:https://mpmcc.com/event/market-at-the-moose-2026-09-05/
LOCATION:Moose Lodge\, 155 Santa Barbara Blvd. N\, Cape Coral\, FL\, 33914\, United States
END:VEVENT
BEGIN:VEVENT
DTSTART;TZID=UTC:20260908T080000
DTEND;TZID=UTC:20260908T130000
DTSTAMP:20260424T000147
CREATED:20171230T032911Z
LAST-MODIFIED:20171230T032911Z
UID:1838-1788854400-1788872400@mpmcc.com
SUMMARY:Surfside Sunset Market
DESCRIPTION:Cape Coral’s only Year-Round Farmers Market. Located at The Shops at Surfside the market is located outside from November-April and indoors from May-October for your shopping comfort. Fresh\, local and healthy produce and citrus\, breads and much more!
URL:https://mpmcc.com/event/surfside-sunset-market-2026-09-08/
LOCATION:Surfside Sunset Market\, 2366 Surfside Blvd\, Cape Coral\, FL\, 33914\, United States
END:VEVENT
BEGIN:VEVENT
DTSTART;TZID=UTC:20260911T170000
DTEND;TZID=UTC:20260911T220000
DTSTAMP:20260424T000147
CREATED:20180802T192204Z
LAST-MODIFIED:20180802T192204Z
UID:1839-1789146000-1789164000@mpmcc.com
SUMMARY:Food Truck Friday at Scotty's Bierwerks
DESCRIPTION:For this Food Truck Friday\, enjoy food from Classic Cuban & Ma Petite Crêperie from 5-9! Enjoy live music from Kyle Anne Duggan from 7-10! Hangout in the brewery/game room and play corn hole\, darts\, air hockey\, food\, and foosball! FAMILY & PET-FRIENDLY \n  \nEvery week there are different Food Trucks and different Musicians at the Brewery..
URL:https://mpmcc.com/event/food-truck-friday-at-scotts-brewery-2026-09-11/
LOCATION:Scotty’s Bierwerks\, 901 E Industrial Cir\, Cape Coral\, FL\, 33909\, United States
END:VEVENT
BEGIN:VEVENT
DTSTART;TZID=UTC:20260915T080000
DTEND;TZID=UTC:20260915T130000
DTSTAMP:20260424T000147
CREATED:20171230T032911Z
LAST-MODIFIED:20171230T032911Z
UID:1840-1789459200-1789477200@mpmcc.com
SUMMARY:Surfside Sunset Market
DESCRIPTION:Cape Coral’s only Year-Round Farmers Market. Located at The Shops at Surfside the market is located outside from November-April and indoors from May-October for your shopping comfort. Fresh\, local and healthy produce and citrus\, breads and much more!
URL:https://mpmcc.com/event/surfside-sunset-market-2026-09-15/
LOCATION:Surfside Sunset Market\, 2366 Surfside Blvd\, Cape Coral\, FL\, 33914\, United States
END:VEVENT
BEGIN:VEVENT
DTSTART;TZID=UTC:20260917T170000
DTEND;TZID=UTC:20260917T210000
DTSTAMP:20260424T000147
CREATED:20180408T193536Z
LAST-MODIFIED:20180408T193536Z
UID:1841-1789664400-1789678800@mpmcc.com
SUMMARY:Bike Night
DESCRIPTION:Every Third Thursday of the Month\nLive Music\nCash Give Away\n$9 Biker BBQ\n$12.50 Buckets & $3 Wells\nBiker Jewelry for Sale\nEvent details at eventbrite.com!
URL:https://mpmcc.com/event/bike-night-2026-09-17/
LOCATION:Shell Factory and Nature Prk\, 2787 North Tamiami Trail\, North Fort Myers\, FL\, 33903\, United States
END:VEVENT
END:VCALENDAR