BEGIN:VCALENDAR
VERSION:2.0
PRODID:-//MPMCC - ECPv6.15.1.1//NONSGML v1.0//EN
CALSCALE:GREGORIAN
METHOD:PUBLISH
X-WR-CALNAME:MPMCC
X-ORIGINAL-URL:https://mpmcc.com
X-WR-CALDESC:Events for MPMCC
REFRESH-INTERVAL;VALUE=DURATION:PT1H
X-Robots-Tag:noindex
X-PUBLISHED-TTL:PT1H
BEGIN:VTIMEZONE
TZID:UTC
BEGIN:STANDARD
TZOFFSETFROM:+0000
TZOFFSETTO:+0000
TZNAME:UTC
DTSTART:20240101T000000
END:STANDARD
END:VTIMEZONE
BEGIN:VEVENT
DTSTART;TZID=UTC:20240315T170000
DTEND;TZID=UTC:20240315T220000
DTSTAMP:20260425T150846
CREATED:20180802T192204Z
LAST-MODIFIED:20180802T192204Z
UID:1458-1710522000-1710540000@mpmcc.com
SUMMARY:Food Truck Friday at Scotty's Bierwerks
DESCRIPTION:For this Food Truck Friday\, enjoy food from Classic Cuban & Ma Petite Crêperie from 5-9! Enjoy live music from Kyle Anne Duggan from 7-10! Hangout in the brewery/game room and play corn hole\, darts\, air hockey\, food\, and foosball! FAMILY & PET-FRIENDLY \n  \nEvery week there are different Food Trucks and different Musicians at the Brewery..
URL:https://mpmcc.com/event/food-truck-friday-at-scotts-brewery-2024-03-15/
LOCATION:Scotty’s Bierwerks\, 901 E Industrial Cir\, Cape Coral\, FL\, 33909\, United States
END:VEVENT
BEGIN:VEVENT
DTSTART;TZID=UTC:20240312T080000
DTEND;TZID=UTC:20240312T130000
DTSTAMP:20260425T150846
CREATED:20171230T032911Z
LAST-MODIFIED:20171230T032911Z
UID:1457-1710230400-1710248400@mpmcc.com
SUMMARY:Surfside Sunset Market
DESCRIPTION:Cape Coral’s only Year-Round Farmers Market. Located at The Shops at Surfside the market is located outside from November-April and indoors from May-October for your shopping comfort. Fresh\, local and healthy produce and citrus\, breads and much more!
URL:https://mpmcc.com/event/surfside-sunset-market-2024-03-12/
LOCATION:Surfside Sunset Market\, 2366 Surfside Blvd\, Cape Coral\, FL\, 33914\, United States
END:VEVENT
BEGIN:VEVENT
DTSTART;TZID=UTC:20240308T170000
DTEND;TZID=UTC:20240308T220000
DTSTAMP:20260425T150846
CREATED:20180802T192204Z
LAST-MODIFIED:20180802T192204Z
UID:1456-1709917200-1709935200@mpmcc.com
SUMMARY:Food Truck Friday at Scotty's Bierwerks
DESCRIPTION:For this Food Truck Friday\, enjoy food from Classic Cuban & Ma Petite Crêperie from 5-9! Enjoy live music from Kyle Anne Duggan from 7-10! Hangout in the brewery/game room and play corn hole\, darts\, air hockey\, food\, and foosball! FAMILY & PET-FRIENDLY \n  \nEvery week there are different Food Trucks and different Musicians at the Brewery..
URL:https://mpmcc.com/event/food-truck-friday-at-scotts-brewery-2024-03-08/
LOCATION:Scotty’s Bierwerks\, 901 E Industrial Cir\, Cape Coral\, FL\, 33909\, United States
END:VEVENT
BEGIN:VEVENT
DTSTART;TZID=UTC:20240305T080000
DTEND;TZID=UTC:20240305T130000
DTSTAMP:20260425T150846
CREATED:20171230T032911Z
LAST-MODIFIED:20171230T032911Z
UID:1455-1709625600-1709643600@mpmcc.com
SUMMARY:Surfside Sunset Market
DESCRIPTION:Cape Coral’s only Year-Round Farmers Market. Located at The Shops at Surfside the market is located outside from November-April and indoors from May-October for your shopping comfort. Fresh\, local and healthy produce and citrus\, breads and much more!
URL:https://mpmcc.com/event/surfside-sunset-market-2024-03-05/
LOCATION:Surfside Sunset Market\, 2366 Surfside Blvd\, Cape Coral\, FL\, 33914\, United States
END:VEVENT
BEGIN:VEVENT
DTSTART;TZID=UTC:20240302T090000
DTEND;TZID=UTC:20240302T140000
DTSTAMP:20260425T150846
CREATED:20180802T193112Z
LAST-MODIFIED:20180802T193112Z
UID:1454-1709370000-1709388000@mpmcc.com
SUMMARY:Market at the Moose
DESCRIPTION:Market at the Moose\nSaturday:  Check out the Market at the Moose every first Saturday of the month. \nIndoor/Outdoor market. \nMany vendors\, fresh produce\, baked goods\, food\, gourmet spices\, custom jewelry\, homemade items\, art\, crafts\, unique small businesses\, Live entertainment and more! \nFREE public admission! Keep our community strong by coming out and supporting our local small businesses! Moose Lodge #2199 on N Santa Barbara Blvd from 9 am – 2 pm.
URL:https://mpmcc.com/event/market-at-the-moose-2024-03-02/
LOCATION:Moose Lodge\, 155 Santa Barbara Blvd. N\, Cape Coral\, FL\, 33914\, United States
END:VEVENT
BEGIN:VEVENT
DTSTART;TZID=UTC:20240301T180000
DTEND;TZID=UTC:20240301T220000
DTSTAMP:20260425T150846
CREATED:20190930T221325Z
LAST-MODIFIED:20190930T221325Z
UID:1453-1709316000-1709330400@mpmcc.com
SUMMARY:Downtown Fort Myers Art Walk!
DESCRIPTION:A must do in the River District social scene is the monthly Art Walk. Always on the First Friday\, visit the many exciting galleries\, exhibitions\, and performances. Free to the public with many venues featuring additional attractions and specials. Rain or shine\, 6-10 pm.
URL:https://mpmcc.com/event/downtown-fort-myers-art-walk-2024-03-01/
LOCATION:River District Holidays\, 1400 JACKSON STREET\, Fort Myers\, FL\, 33902\, United States
END:VEVENT
BEGIN:VEVENT
DTSTART;TZID=UTC:20240301T170000
DTEND;TZID=UTC:20240301T220000
DTSTAMP:20260425T150846
CREATED:20180802T192204Z
LAST-MODIFIED:20180802T192204Z
UID:1452-1709312400-1709330400@mpmcc.com
SUMMARY:Food Truck Friday at Scotty's Bierwerks
DESCRIPTION:For this Food Truck Friday\, enjoy food from Classic Cuban & Ma Petite Crêperie from 5-9! Enjoy live music from Kyle Anne Duggan from 7-10! Hangout in the brewery/game room and play corn hole\, darts\, air hockey\, food\, and foosball! FAMILY & PET-FRIENDLY \n  \nEvery week there are different Food Trucks and different Musicians at the Brewery..
URL:https://mpmcc.com/event/food-truck-friday-at-scotts-brewery-2024-03-01/
LOCATION:Scotty’s Bierwerks\, 901 E Industrial Cir\, Cape Coral\, FL\, 33909\, United States
END:VEVENT
BEGIN:VEVENT
DTSTART;TZID=UTC:20240227T080000
DTEND;TZID=UTC:20240227T130000
DTSTAMP:20260425T150846
CREATED:20171230T032911Z
LAST-MODIFIED:20171230T032911Z
UID:1451-1709020800-1709038800@mpmcc.com
SUMMARY:Surfside Sunset Market
DESCRIPTION:Cape Coral’s only Year-Round Farmers Market. Located at The Shops at Surfside the market is located outside from November-April and indoors from May-October for your shopping comfort. Fresh\, local and healthy produce and citrus\, breads and much more!
URL:https://mpmcc.com/event/surfside-sunset-market-2024-02-27/
LOCATION:Surfside Sunset Market\, 2366 Surfside Blvd\, Cape Coral\, FL\, 33914\, United States
END:VEVENT
BEGIN:VEVENT
DTSTART;TZID=UTC:20240223T170000
DTEND;TZID=UTC:20240223T220000
DTSTAMP:20260425T150846
CREATED:20180802T192204Z
LAST-MODIFIED:20180802T192204Z
UID:1450-1708707600-1708725600@mpmcc.com
SUMMARY:Food Truck Friday at Scotty's Bierwerks
DESCRIPTION:For this Food Truck Friday\, enjoy food from Classic Cuban & Ma Petite Crêperie from 5-9! Enjoy live music from Kyle Anne Duggan from 7-10! Hangout in the brewery/game room and play corn hole\, darts\, air hockey\, food\, and foosball! FAMILY & PET-FRIENDLY \n  \nEvery week there are different Food Trucks and different Musicians at the Brewery..
URL:https://mpmcc.com/event/food-truck-friday-at-scotts-brewery-2024-02-23/
LOCATION:Scotty’s Bierwerks\, 901 E Industrial Cir\, Cape Coral\, FL\, 33909\, United States
END:VEVENT
BEGIN:VEVENT
DTSTART;TZID=UTC:20240220T080000
DTEND;TZID=UTC:20240220T130000
DTSTAMP:20260425T150846
CREATED:20171230T032911Z
LAST-MODIFIED:20171230T032911Z
UID:1449-1708416000-1708434000@mpmcc.com
SUMMARY:Surfside Sunset Market
DESCRIPTION:Cape Coral’s only Year-Round Farmers Market. Located at The Shops at Surfside the market is located outside from November-April and indoors from May-October for your shopping comfort. Fresh\, local and healthy produce and citrus\, breads and much more!
URL:https://mpmcc.com/event/surfside-sunset-market-2024-02-20/
LOCATION:Surfside Sunset Market\, 2366 Surfside Blvd\, Cape Coral\, FL\, 33914\, United States
END:VEVENT
BEGIN:VEVENT
DTSTART;TZID=UTC:20240216T220000
DTEND;TZID=UTC:20240217T020000
DTSTAMP:20260425T150846
CREATED:20190930T221642Z
LAST-MODIFIED:20190930T221642Z
UID:1448-1708120800-1708135200@mpmcc.com
SUMMARY:Downtown Fort Myers Music Walk!
DESCRIPTION:The River District comes alive on the third Friday of the month as local and regional musicians line the streets. From jazz and blues to rock & roll\, many genres can be heard and vary each month. Free to the public with many venues featuring additional attractions and specials.
URL:https://mpmcc.com/event/downtown-fort-myers-music-walk-2024-02-16/
LOCATION:River District Holidays\, 1400 JACKSON STREET\, Fort Myers\, FL\, 33902\, United States
END:VEVENT
BEGIN:VEVENT
DTSTART;TZID=UTC:20240216T170000
DTEND;TZID=UTC:20240216T220000
DTSTAMP:20260425T150846
CREATED:20180802T192204Z
LAST-MODIFIED:20180802T192204Z
UID:1447-1708102800-1708120800@mpmcc.com
SUMMARY:Food Truck Friday at Scotty's Bierwerks
DESCRIPTION:For this Food Truck Friday\, enjoy food from Classic Cuban & Ma Petite Crêperie from 5-9! Enjoy live music from Kyle Anne Duggan from 7-10! Hangout in the brewery/game room and play corn hole\, darts\, air hockey\, food\, and foosball! FAMILY & PET-FRIENDLY \n  \nEvery week there are different Food Trucks and different Musicians at the Brewery..
URL:https://mpmcc.com/event/food-truck-friday-at-scotts-brewery-2024-02-16/
LOCATION:Scotty’s Bierwerks\, 901 E Industrial Cir\, Cape Coral\, FL\, 33909\, United States
END:VEVENT
BEGIN:VEVENT
DTSTART;TZID=UTC:20240215T170000
DTEND;TZID=UTC:20240215T210000
DTSTAMP:20260425T150846
CREATED:20180408T193536Z
LAST-MODIFIED:20180408T193536Z
UID:1446-1708016400-1708030800@mpmcc.com
SUMMARY:Bike Night
DESCRIPTION:Every Third Thursday of the Month\nLive Music\nCash Give Away\n$9 Biker BBQ\n$12.50 Buckets & $3 Wells\nBiker Jewelry for Sale\nEvent details at eventbrite.com!
URL:https://mpmcc.com/event/bike-night-2024-02-15/
LOCATION:Shell Factory and Nature Prk\, 2787 North Tamiami Trail\, North Fort Myers\, FL\, 33903\, United States
END:VEVENT
BEGIN:VEVENT
DTSTART;TZID=UTC:20240213T080000
DTEND;TZID=UTC:20240213T130000
DTSTAMP:20260425T150846
CREATED:20171230T032911Z
LAST-MODIFIED:20171230T032911Z
UID:1445-1707811200-1707829200@mpmcc.com
SUMMARY:Surfside Sunset Market
DESCRIPTION:Cape Coral’s only Year-Round Farmers Market. Located at The Shops at Surfside the market is located outside from November-April and indoors from May-October for your shopping comfort. Fresh\, local and healthy produce and citrus\, breads and much more!
URL:https://mpmcc.com/event/surfside-sunset-market-2024-02-13/
LOCATION:Surfside Sunset Market\, 2366 Surfside Blvd\, Cape Coral\, FL\, 33914\, United States
END:VEVENT
BEGIN:VEVENT
DTSTART;TZID=UTC:20240209T170000
DTEND;TZID=UTC:20240209T220000
DTSTAMP:20260425T150846
CREATED:20180802T192204Z
LAST-MODIFIED:20180802T192204Z
UID:1444-1707498000-1707516000@mpmcc.com
SUMMARY:Food Truck Friday at Scotty's Bierwerks
DESCRIPTION:For this Food Truck Friday\, enjoy food from Classic Cuban & Ma Petite Crêperie from 5-9! Enjoy live music from Kyle Anne Duggan from 7-10! Hangout in the brewery/game room and play corn hole\, darts\, air hockey\, food\, and foosball! FAMILY & PET-FRIENDLY \n  \nEvery week there are different Food Trucks and different Musicians at the Brewery..
URL:https://mpmcc.com/event/food-truck-friday-at-scotts-brewery-2024-02-09/
LOCATION:Scotty’s Bierwerks\, 901 E Industrial Cir\, Cape Coral\, FL\, 33909\, United States
END:VEVENT
BEGIN:VEVENT
DTSTART;TZID=UTC:20240206T080000
DTEND;TZID=UTC:20240206T130000
DTSTAMP:20260425T150846
CREATED:20171230T032911Z
LAST-MODIFIED:20171230T032911Z
UID:1443-1707206400-1707224400@mpmcc.com
SUMMARY:Surfside Sunset Market
DESCRIPTION:Cape Coral’s only Year-Round Farmers Market. Located at The Shops at Surfside the market is located outside from November-April and indoors from May-October for your shopping comfort. Fresh\, local and healthy produce and citrus\, breads and much more!
URL:https://mpmcc.com/event/surfside-sunset-market-2024-02-06/
LOCATION:Surfside Sunset Market\, 2366 Surfside Blvd\, Cape Coral\, FL\, 33914\, United States
END:VEVENT
BEGIN:VEVENT
DTSTART;TZID=UTC:20240203T090000
DTEND;TZID=UTC:20240203T140000
DTSTAMP:20260425T150846
CREATED:20180802T193112Z
LAST-MODIFIED:20180802T193112Z
UID:1442-1706950800-1706968800@mpmcc.com
SUMMARY:Market at the Moose
DESCRIPTION:Market at the Moose\nSaturday:  Check out the Market at the Moose every first Saturday of the month. \nIndoor/Outdoor market. \nMany vendors\, fresh produce\, baked goods\, food\, gourmet spices\, custom jewelry\, homemade items\, art\, crafts\, unique small businesses\, Live entertainment and more! \nFREE public admission! Keep our community strong by coming out and supporting our local small businesses! Moose Lodge #2199 on N Santa Barbara Blvd from 9 am – 2 pm.
URL:https://mpmcc.com/event/market-at-the-moose-2024-02-03/
LOCATION:Moose Lodge\, 155 Santa Barbara Blvd. N\, Cape Coral\, FL\, 33914\, United States
END:VEVENT
BEGIN:VEVENT
DTSTART;TZID=UTC:20240202T180000
DTEND;TZID=UTC:20240202T220000
DTSTAMP:20260425T150846
CREATED:20190930T221325Z
LAST-MODIFIED:20190930T221325Z
UID:1441-1706896800-1706911200@mpmcc.com
SUMMARY:Downtown Fort Myers Art Walk!
DESCRIPTION:A must do in the River District social scene is the monthly Art Walk. Always on the First Friday\, visit the many exciting galleries\, exhibitions\, and performances. Free to the public with many venues featuring additional attractions and specials. Rain or shine\, 6-10 pm.
URL:https://mpmcc.com/event/downtown-fort-myers-art-walk-2024-02-02/
LOCATION:River District Holidays\, 1400 JACKSON STREET\, Fort Myers\, FL\, 33902\, United States
END:VEVENT
BEGIN:VEVENT
DTSTART;TZID=UTC:20240202T170000
DTEND;TZID=UTC:20240202T220000
DTSTAMP:20260425T150846
CREATED:20180802T192204Z
LAST-MODIFIED:20180802T192204Z
UID:1440-1706893200-1706911200@mpmcc.com
SUMMARY:Food Truck Friday at Scotty's Bierwerks
DESCRIPTION:For this Food Truck Friday\, enjoy food from Classic Cuban & Ma Petite Crêperie from 5-9! Enjoy live music from Kyle Anne Duggan from 7-10! Hangout in the brewery/game room and play corn hole\, darts\, air hockey\, food\, and foosball! FAMILY & PET-FRIENDLY \n  \nEvery week there are different Food Trucks and different Musicians at the Brewery..
URL:https://mpmcc.com/event/food-truck-friday-at-scotts-brewery-2024-02-02/
LOCATION:Scotty’s Bierwerks\, 901 E Industrial Cir\, Cape Coral\, FL\, 33909\, United States
END:VEVENT
BEGIN:VEVENT
DTSTART;TZID=UTC:20240130T080000
DTEND;TZID=UTC:20240130T130000
DTSTAMP:20260425T150846
CREATED:20171230T032911Z
LAST-MODIFIED:20171230T032911Z
UID:1439-1706601600-1706619600@mpmcc.com
SUMMARY:Surfside Sunset Market
DESCRIPTION:Cape Coral’s only Year-Round Farmers Market. Located at The Shops at Surfside the market is located outside from November-April and indoors from May-October for your shopping comfort. Fresh\, local and healthy produce and citrus\, breads and much more!
URL:https://mpmcc.com/event/surfside-sunset-market-2024-01-30/
LOCATION:Surfside Sunset Market\, 2366 Surfside Blvd\, Cape Coral\, FL\, 33914\, United States
END:VEVENT
BEGIN:VEVENT
DTSTART;TZID=UTC:20240126T170000
DTEND;TZID=UTC:20240126T220000
DTSTAMP:20260425T150846
CREATED:20180802T192204Z
LAST-MODIFIED:20180802T192204Z
UID:1438-1706288400-1706306400@mpmcc.com
SUMMARY:Food Truck Friday at Scotty's Bierwerks
DESCRIPTION:For this Food Truck Friday\, enjoy food from Classic Cuban & Ma Petite Crêperie from 5-9! Enjoy live music from Kyle Anne Duggan from 7-10! Hangout in the brewery/game room and play corn hole\, darts\, air hockey\, food\, and foosball! FAMILY & PET-FRIENDLY \n  \nEvery week there are different Food Trucks and different Musicians at the Brewery..
URL:https://mpmcc.com/event/food-truck-friday-at-scotts-brewery-2024-01-26/
LOCATION:Scotty’s Bierwerks\, 901 E Industrial Cir\, Cape Coral\, FL\, 33909\, United States
END:VEVENT
BEGIN:VEVENT
DTSTART;TZID=UTC:20240123T080000
DTEND;TZID=UTC:20240123T130000
DTSTAMP:20260425T150846
CREATED:20171230T032911Z
LAST-MODIFIED:20171230T032911Z
UID:1437-1705996800-1706014800@mpmcc.com
SUMMARY:Surfside Sunset Market
DESCRIPTION:Cape Coral’s only Year-Round Farmers Market. Located at The Shops at Surfside the market is located outside from November-April and indoors from May-October for your shopping comfort. Fresh\, local and healthy produce and citrus\, breads and much more!
URL:https://mpmcc.com/event/surfside-sunset-market-2024-01-23/
LOCATION:Surfside Sunset Market\, 2366 Surfside Blvd\, Cape Coral\, FL\, 33914\, United States
END:VEVENT
BEGIN:VEVENT
DTSTART;TZID=UTC:20240119T220000
DTEND;TZID=UTC:20240120T020000
DTSTAMP:20260425T150846
CREATED:20190930T221642Z
LAST-MODIFIED:20190930T221642Z
UID:1436-1705701600-1705716000@mpmcc.com
SUMMARY:Downtown Fort Myers Music Walk!
DESCRIPTION:The River District comes alive on the third Friday of the month as local and regional musicians line the streets. From jazz and blues to rock & roll\, many genres can be heard and vary each month. Free to the public with many venues featuring additional attractions and specials.
URL:https://mpmcc.com/event/downtown-fort-myers-music-walk-2024-01-19/
LOCATION:River District Holidays\, 1400 JACKSON STREET\, Fort Myers\, FL\, 33902\, United States
END:VEVENT
BEGIN:VEVENT
DTSTART;TZID=UTC:20240119T170000
DTEND;TZID=UTC:20240119T220000
DTSTAMP:20260425T150846
CREATED:20180802T192204Z
LAST-MODIFIED:20180802T192204Z
UID:1435-1705683600-1705701600@mpmcc.com
SUMMARY:Food Truck Friday at Scotty's Bierwerks
DESCRIPTION:For this Food Truck Friday\, enjoy food from Classic Cuban & Ma Petite Crêperie from 5-9! Enjoy live music from Kyle Anne Duggan from 7-10! Hangout in the brewery/game room and play corn hole\, darts\, air hockey\, food\, and foosball! FAMILY & PET-FRIENDLY \n  \nEvery week there are different Food Trucks and different Musicians at the Brewery..
URL:https://mpmcc.com/event/food-truck-friday-at-scotts-brewery-2024-01-19/
LOCATION:Scotty’s Bierwerks\, 901 E Industrial Cir\, Cape Coral\, FL\, 33909\, United States
END:VEVENT
BEGIN:VEVENT
DTSTART;TZID=UTC:20240118T170000
DTEND;TZID=UTC:20240118T210000
DTSTAMP:20260425T150846
CREATED:20180408T193536Z
LAST-MODIFIED:20180408T193536Z
UID:1434-1705597200-1705611600@mpmcc.com
SUMMARY:Bike Night
DESCRIPTION:Every Third Thursday of the Month\nLive Music\nCash Give Away\n$9 Biker BBQ\n$12.50 Buckets & $3 Wells\nBiker Jewelry for Sale\nEvent details at eventbrite.com!
URL:https://mpmcc.com/event/bike-night-2024-01-18/
LOCATION:Shell Factory and Nature Prk\, 2787 North Tamiami Trail\, North Fort Myers\, FL\, 33903\, United States
END:VEVENT
BEGIN:VEVENT
DTSTART;TZID=UTC:20240116T080000
DTEND;TZID=UTC:20240116T130000
DTSTAMP:20260425T150846
CREATED:20171230T032911Z
LAST-MODIFIED:20171230T032911Z
UID:1433-1705392000-1705410000@mpmcc.com
SUMMARY:Surfside Sunset Market
DESCRIPTION:Cape Coral’s only Year-Round Farmers Market. Located at The Shops at Surfside the market is located outside from November-April and indoors from May-October for your shopping comfort. Fresh\, local and healthy produce and citrus\, breads and much more!
URL:https://mpmcc.com/event/surfside-sunset-market-2024-01-16/
LOCATION:Surfside Sunset Market\, 2366 Surfside Blvd\, Cape Coral\, FL\, 33914\, United States
END:VEVENT
BEGIN:VEVENT
DTSTART;TZID=UTC:20240112T170000
DTEND;TZID=UTC:20240112T220000
DTSTAMP:20260425T150846
CREATED:20180802T192204Z
LAST-MODIFIED:20180802T192204Z
UID:1432-1705078800-1705096800@mpmcc.com
SUMMARY:Food Truck Friday at Scotty's Bierwerks
DESCRIPTION:For this Food Truck Friday\, enjoy food from Classic Cuban & Ma Petite Crêperie from 5-9! Enjoy live music from Kyle Anne Duggan from 7-10! Hangout in the brewery/game room and play corn hole\, darts\, air hockey\, food\, and foosball! FAMILY & PET-FRIENDLY \n  \nEvery week there are different Food Trucks and different Musicians at the Brewery..
URL:https://mpmcc.com/event/food-truck-friday-at-scotts-brewery-2024-01-12/
LOCATION:Scotty’s Bierwerks\, 901 E Industrial Cir\, Cape Coral\, FL\, 33909\, United States
END:VEVENT
BEGIN:VEVENT
DTSTART;TZID=UTC:20240109T080000
DTEND;TZID=UTC:20240109T130000
DTSTAMP:20260425T150846
CREATED:20171230T032911Z
LAST-MODIFIED:20171230T032911Z
UID:1431-1704787200-1704805200@mpmcc.com
SUMMARY:Surfside Sunset Market
DESCRIPTION:Cape Coral’s only Year-Round Farmers Market. Located at The Shops at Surfside the market is located outside from November-April and indoors from May-October for your shopping comfort. Fresh\, local and healthy produce and citrus\, breads and much more!
URL:https://mpmcc.com/event/surfside-sunset-market-2024-01-09/
LOCATION:Surfside Sunset Market\, 2366 Surfside Blvd\, Cape Coral\, FL\, 33914\, United States
END:VEVENT
BEGIN:VEVENT
DTSTART;TZID=UTC:20240106T090000
DTEND;TZID=UTC:20240106T140000
DTSTAMP:20260425T150846
CREATED:20180802T193112Z
LAST-MODIFIED:20180802T193112Z
UID:1430-1704531600-1704549600@mpmcc.com
SUMMARY:Market at the Moose
DESCRIPTION:Market at the Moose\nSaturday:  Check out the Market at the Moose every first Saturday of the month. \nIndoor/Outdoor market. \nMany vendors\, fresh produce\, baked goods\, food\, gourmet spices\, custom jewelry\, homemade items\, art\, crafts\, unique small businesses\, Live entertainment and more! \nFREE public admission! Keep our community strong by coming out and supporting our local small businesses! Moose Lodge #2199 on N Santa Barbara Blvd from 9 am – 2 pm.
URL:https://mpmcc.com/event/market-at-the-moose-2024-01-06/
LOCATION:Moose Lodge\, 155 Santa Barbara Blvd. N\, Cape Coral\, FL\, 33914\, United States
END:VEVENT
BEGIN:VEVENT
DTSTART;TZID=UTC:20240105T180000
DTEND;TZID=UTC:20240105T220000
DTSTAMP:20260425T150846
CREATED:20190930T221325Z
LAST-MODIFIED:20190930T221325Z
UID:1429-1704477600-1704492000@mpmcc.com
SUMMARY:Downtown Fort Myers Art Walk!
DESCRIPTION:A must do in the River District social scene is the monthly Art Walk. Always on the First Friday\, visit the many exciting galleries\, exhibitions\, and performances. Free to the public with many venues featuring additional attractions and specials. Rain or shine\, 6-10 pm.
URL:https://mpmcc.com/event/downtown-fort-myers-art-walk-2024-01-05/
LOCATION:River District Holidays\, 1400 JACKSON STREET\, Fort Myers\, FL\, 33902\, United States
END:VEVENT
END:VCALENDAR