BEGIN:VCALENDAR
VERSION:2.0
PRODID:-//MPMCC - ECPv6.15.1.1//NONSGML v1.0//EN
CALSCALE:GREGORIAN
METHOD:PUBLISH
X-WR-CALNAME:MPMCC
X-ORIGINAL-URL:https://mpmcc.com
X-WR-CALDESC:Events for MPMCC
REFRESH-INTERVAL;VALUE=DURATION:PT1H
X-Robots-Tag:noindex
X-PUBLISHED-TTL:PT1H
BEGIN:VTIMEZONE
TZID:UTC
BEGIN:STANDARD
TZOFFSETFROM:+0000
TZOFFSETTO:+0000
TZNAME:UTC
DTSTART:20260101T000000
END:STANDARD
END:VTIMEZONE
BEGIN:VEVENT
DTSTART;TZID=UTC:20260616T080000
DTEND;TZID=UTC:20260616T130000
DTSTAMP:20260423T183149
CREATED:20171230T032911Z
LAST-MODIFIED:20171230T032911Z
UID:1801-1781596800-1781614800@mpmcc.com
SUMMARY:Surfside Sunset Market
DESCRIPTION:Cape Coral’s only Year-Round Farmers Market. Located at The Shops at Surfside the market is located outside from November-April and indoors from May-October for your shopping comfort. Fresh\, local and healthy produce and citrus\, breads and much more!
URL:https://mpmcc.com/event/surfside-sunset-market-2026-06-16/
LOCATION:Surfside Sunset Market\, 2366 Surfside Blvd\, Cape Coral\, FL\, 33914\, United States
END:VEVENT
END:VCALENDAR