BEGIN:VCALENDAR
VERSION:2.0
PRODID:-//MPMCC - ECPv6.15.1.1//NONSGML v1.0//EN
CALSCALE:GREGORIAN
METHOD:PUBLISH
X-WR-CALNAME:MPMCC
X-ORIGINAL-URL:https://mpmcc.com
X-WR-CALDESC:Events for MPMCC
REFRESH-INTERVAL;VALUE=DURATION:PT1H
X-Robots-Tag:noindex
X-PUBLISHED-TTL:PT1H
BEGIN:VTIMEZONE
TZID:UTC
BEGIN:STANDARD
TZOFFSETFROM:+0000
TZOFFSETTO:+0000
TZNAME:UTC
DTSTART:20260101T000000
END:STANDARD
END:VTIMEZONE
BEGIN:VEVENT
DTSTART;TZID=UTC:20260307T090000
DTEND;TZID=UTC:20260307T140000
DTSTAMP:20260423T164512
CREATED:20180802T193112Z
LAST-MODIFIED:20180802T193112Z
UID:1760-1772874000-1772892000@mpmcc.com
SUMMARY:Market at the Moose
DESCRIPTION:Market at the Moose\nSaturday:  Check out the Market at the Moose every first Saturday of the month. \nIndoor/Outdoor market. \nMany vendors\, fresh produce\, baked goods\, food\, gourmet spices\, custom jewelry\, homemade items\, art\, crafts\, unique small businesses\, Live entertainment and more! \nFREE public admission! Keep our community strong by coming out and supporting our local small businesses! Moose Lodge #2199 on N Santa Barbara Blvd from 9 am – 2 pm.
URL:https://mpmcc.com/event/market-at-the-moose-2026-03-07/
LOCATION:Moose Lodge\, 155 Santa Barbara Blvd. N\, Cape Coral\, FL\, 33914\, United States
END:VEVENT
END:VCALENDAR