BEGIN:VCALENDAR
VERSION:2.0
PRODID:-//MPMCC - ECPv6.15.1.1//NONSGML v1.0//EN
CALSCALE:GREGORIAN
METHOD:PUBLISH
X-WR-CALNAME:MPMCC
X-ORIGINAL-URL:https://mpmcc.com
X-WR-CALDESC:Events for MPMCC
REFRESH-INTERVAL;VALUE=DURATION:PT1H
X-Robots-Tag:noindex
X-PUBLISHED-TTL:PT1H
BEGIN:VTIMEZONE
TZID:UTC
BEGIN:STANDARD
TZOFFSETFROM:+0000
TZOFFSETTO:+0000
TZNAME:UTC
DTSTART:20260101T000000
END:STANDARD
END:VTIMEZONE
BEGIN:VEVENT
DTSTART;TZID=UTC:20260220T170000
DTEND;TZID=UTC:20260220T220000
DTSTAMP:20260423T183948
CREATED:20180802T192204Z
LAST-MODIFIED:20180802T192204Z
UID:1753-1771606800-1771624800@mpmcc.com
SUMMARY:Food Truck Friday at Scotty's Bierwerks
DESCRIPTION:For this Food Truck Friday\, enjoy food from Classic Cuban & Ma Petite Crêperie from 5-9! Enjoy live music from Kyle Anne Duggan from 7-10! Hangout in the brewery/game room and play corn hole\, darts\, air hockey\, food\, and foosball! FAMILY & PET-FRIENDLY \n  \nEvery week there are different Food Trucks and different Musicians at the Brewery..
URL:https://mpmcc.com/event/food-truck-friday-at-scotts-brewery-2026-02-20/
LOCATION:Scotty’s Bierwerks\, 901 E Industrial Cir\, Cape Coral\, FL\, 33909\, United States
END:VEVENT
BEGIN:VEVENT
DTSTART;TZID=UTC:20260220T220000
DTEND;TZID=UTC:20260221T020000
DTSTAMP:20260423T183948
CREATED:20190930T221642Z
LAST-MODIFIED:20190930T221642Z
UID:1754-1771624800-1771639200@mpmcc.com
SUMMARY:Downtown Fort Myers Music Walk!
DESCRIPTION:The River District comes alive on the third Friday of the month as local and regional musicians line the streets. From jazz and blues to rock & roll\, many genres can be heard and vary each month. Free to the public with many venues featuring additional attractions and specials.
URL:https://mpmcc.com/event/downtown-fort-myers-music-walk-2026-02-20/
LOCATION:River District Holidays\, 1400 JACKSON STREET\, Fort Myers\, FL\, 33902\, United States
END:VEVENT
END:VCALENDAR